BEGIN:VCALENDAR
VERSION:2.0
PRODID:-//wp-events-plugin.com//7.2.3.1//EN
TZID:America/New_York
X-WR-TIMEZONE:America/New_York
BEGIN:VEVENT
UID:510@breatheatlanta.us
DTSTART;TZID=America/New_York:20241025T180000
DTEND;TZID=America/New_York:20241025T193000
DTSTAMP:20240928T071922Z
URL:https://breatheatlanta.us/events/halloween-chocolate-wine-pairing/
SUMMARY:Halloween Chocolate & Wine Pairing
DESCRIPTION:This Halloween\, indulge in a unique culinary experience at the
  Halloween Chocolate &amp\; Wine Pairing event\, where chocolate lovers an
 d wine enthusiasts alike can delight in an educational journey of flavors.
  Participants will have the opportunity to sample six exquisite varieties 
 of handcrafted chocolates\, expertly paired with wines selected by the kno
 wledgeable sommelier\, Brian White.\n\nAs the tasting unfolds\, attendees 
 will gain insights from chocolatier Megan Satterlee\, who will share her e
 xpertise on cacao beans and their transformation into the delectable choco
 late bars we adore. Participants will learn about the different types of c
 acao varietals\, including how various farms of origin influence the flavo
 rs and characteristics of the chocolate. This exploration of cacao’s jou
 rney from bean to bar will deepen the appreciation of each tasting.\n\nThr
 oughout the event\, guests will savor the rich\, complex flavors of the ch
 ocolates while sipping on carefully chosen wines that enhance and compleme
 nt each treat. This interactive experience not only tantalizes the taste b
 uds but also educates attendees about the art of chocolate-making and wine
  pairing.\n\nJoin in for an unforgettable evening of indulgence and discov
 ery\, perfect for Halloween or any occasion. This unique pairing event pro
 mises to be a delightful adventure for anyone eager to explore the exquisi
 te world of chocolate and wine. Come ready to taste\, learn\, and enjoy a 
 luxurious celebration of these two beloved treats!\n\nGET TICKETS\n
ATTACH;FMTTYPE=image/jpeg:https://breatheatlanta.us/wp-content/uploads/202
 4/09/Halloween-Chocolate-Wine-Pairing.png
CATEGORIES:Food &amp; Drink Events,Things To Do
LOCATION:Epicurean Atlanta\, 1117 W Peachtree St NW Atlanta\, Atlanta\, Geo
 rgia\, 30309\, GA\, United States
X-APPLE-STRUCTURED-LOCATION;VALUE=URI;X-ADDRESS=1117 W Peachtree St NW Atla
 nta\, Atlanta\, Georgia\, 30309\, GA\, United States;X-APPLE-RADIUS=100;X-
 TITLE=Epicurean Atlanta:geo:0,0
END:VEVENT
BEGIN:VTIMEZONE
TZID:America/New_York
X-LIC-LOCATION:America/New_York
BEGIN:DAYLIGHT
DTSTART:20240310T030000
TZOFFSETFROM:-0500
TZOFFSETTO:-0400
TZNAME:EDT
END:DAYLIGHT
END:VTIMEZONE
END:VCALENDAR