BEGIN:VCALENDAR
VERSION:2.0
PRODID:-//wp-events-plugin.com//7.2.3.1//EN
TZID:America/New_York
X-WR-TIMEZONE:America/New_York
BEGIN:VEVENT
UID:646@breatheatlanta.us
DTSTART;TZID=America/New_York:20241027T150000
DTEND;TZID=America/New_York:20241027T190000
DTSTAMP:20241018T080700Z
URL:https://breatheatlanta.us/events/halloween-illusion-barber-battle/
SUMMARY:HALLOWEEN ILLUSION BARBER BATTLE
DESCRIPTION:Get ready for the Halloween Illusion Barber Battle\, an exhilar
 ating event where creativity meets competition! Early bird general admissi
 on tickets are currently available for just $20\, offering attendees a cha
 nce to witness some of the best talent in the barbering industry. Vendor b
 ooths are also open for those looking to showcase their products and servi
 ces during this exciting event.\n\nThe day kicks off with the Hair Illusio
 n Fastest Fade Competition\, taking place from 3 PM to 5 PM. Contestants w
 ill race against the clock to demonstrate their fading skills\, with winne
 rs receiving cash prizes\, trophies\, and sponsored gifts. In a show of ap
 preciation\, all participants will walk away with a prize\, ensuring that 
 everyone leaves a winner.\n\nAs the excitement builds\, the Hair Illusion 
 Barber Battle Final Contest will commence at 5:30 PM and run until 7 PM. T
 his is the highlight of the event\, where the top competitors will face of
 f for the ultimate title. The winners will be awarded an incredible trip f
 or two to either Cancun\, Mexico\, or Puerto Rico\, in addition to trophie
 s and other sponsored gifts.\n\nThis event promises to be one of the most 
 memorable barber battles of participants’ lives\, filled with passion\, 
 creativity\, and fierce competition. For many barbers\, this contest will 
 be a life-changing experience\, as they pour their hearts and souls into t
 heir craft. Don't miss out on this unique opportunity to celebrate artistr
 y and skill in the barbering community!\n\nGET TICKETS\n
ATTACH;FMTTYPE=image/jpeg:https://breatheatlanta.us/wp-content/uploads/202
 4/10/HALLOWEEN-ILLUSION-BARBER-BATTLE.jpg
CATEGORIES:Things To Do
LOCATION:780 N. Highland Ave.\, 780 North Highland Avenue Northeast Atlanta
 \, Atlanta\, Georgia\, 30306\, GA\, United States
X-APPLE-STRUCTURED-LOCATION;VALUE=URI;X-ADDRESS=780 North Highland Avenue N
 ortheast Atlanta\, Atlanta\, Georgia\, 30306\, GA\, United States;X-APPLE-
 RADIUS=100;X-TITLE=780 N. Highland Ave.:geo:0,0
END:VEVENT
BEGIN:VTIMEZONE
TZID:America/New_York
X-LIC-LOCATION:America/New_York
BEGIN:DAYLIGHT
DTSTART:20240310T030000
TZOFFSETFROM:-0500
TZOFFSETTO:-0400
TZNAME:EDT
END:DAYLIGHT
END:VTIMEZONE
END:VCALENDAR