BEGIN:VCALENDAR
VERSION:2.0
PRODID:-//wp-events-plugin.com//7.2.3.1//EN
TZID:America/New_York
X-WR-TIMEZONE:America/New_York
BEGIN:VEVENT
UID:513@breatheatlanta.us
DTSTART;TZID=America/New_York:20241026T113000
DTEND;TZID=America/New_York:20241026T121500
DTSTAMP:20240928T073737Z
URL:https://breatheatlanta.us/events/halloween-magic-show/
SUMMARY:Halloween Magic Show
DESCRIPTION:This Halloween season\, prepare to be dazzled by the Halloween 
 Magic Show\, featuring the talented magician Arthur Atsma. Known for his i
 ncredible tricks and captivating performances\, Atsma combines mind-bendin
 g illusions with festive Halloween flair\, creating a unique spectacle tha
 t is sure to delight audiences of all ages.\n\nFamilies are invited to com
 e together for an unforgettable evening filled with magic and laughter. Th
 e show blends thrilling performances with spooky surprises\, ensuring a ca
 ptivating experience that will enchant both children and adults alike. Wit
 h each trick and illusion\, Atsma keeps the audience on the edge of their 
 seats\, blending humor and artistry to create a mesmerizing atmosphere.\n\
 nThe Halloween Magic Show is not just about the magic\; it also embodies t
 he spirit of Halloween\, infusing the performance with fun and excitement 
 that captures the essence of the season. From mysterious effects to whimsi
 cal surprises\, attendees can expect a delightful journey through the worl
 d of magic.\n\nThis event is perfect for those looking to celebrate Hallow
 een in a memorable way\, making it a must-see attraction for families seek
 ing a spooky yet entertaining outing. Get ready for an evening filled with
  wonder\, laughter\, and the enchanting artistry of Arthur Atsma!\n\nGET T
 ICKETS\n
ATTACH;FMTTYPE=image/jpeg:https://breatheatlanta.us/wp-content/uploads/202
 4/09/Halloween-Magic-Show.jpg
CATEGORIES:Things To Do
LOCATION:Lawrenceville Arts Center\, 125 N Clayton St Lawrenceville\, Atlan
 ta\, Georgia\, 30046\, GA\, United States
X-APPLE-STRUCTURED-LOCATION;VALUE=URI;X-ADDRESS=125 N Clayton St Lawrencevi
 lle\, Atlanta\, Georgia\, 30046\, GA\, United States;X-APPLE-RADIUS=100;X-
 TITLE=Lawrenceville Arts Center:geo:0,0
END:VEVENT
BEGIN:VTIMEZONE
TZID:America/New_York
X-LIC-LOCATION:America/New_York
BEGIN:DAYLIGHT
DTSTART:20240310T030000
TZOFFSETFROM:-0500
TZOFFSETTO:-0400
TZNAME:EDT
END:DAYLIGHT
END:VTIMEZONE
END:VCALENDAR