BEGIN:VCALENDAR
VERSION:2.0
PRODID:-//wp-events-plugin.com//7.2.3.1//EN
TZID:America/New_York
X-WR-TIMEZONE:America/New_York
BEGIN:VEVENT
UID:667@breatheatlanta.us
DTSTART;TZID=America/New_York:20241025T180000
DTEND;TZID=America/New_York:20241025T210000
DTSTAMP:20241018T100851Z
URL:https://breatheatlanta.us/events/halloween-pop-up-picnic/
SUMMARY:Halloween Pop Up Picnic
DESCRIPTION:Get ready for a Halloween Pop-Up Picnic\, a delightful gatherin
 g where community spirit meets festive fun! Set against the charming backd
 rop of Westview Corner Grocery\, this event promises a spooktacular aftern
 oon filled with laughter\, food\, and Halloween festivities.\n\nParticipan
 ts are encouraged to don their favorite costumes and join friends and fami
 ly for a festive picnic experience. The atmosphere will be adorned with Ha
 lloween decorations\, creating a playful and inviting environment for all 
 ages.\n\nGuests can look forward to a variety of delicious treats\, ensuri
 ng that everyone can indulge in seasonal delights. In addition to the food
 \, there will be engaging games and lively music to keep the energy high a
 nd spirits lifted throughout the day.\n\nThis event is not just about enjo
 ying food and games\; it’s also a chance to connect with others in the c
 ommunity and create lasting memories. Whether you come with loved ones or 
 make new friends at the picnic\, there will be something for everyone to e
 njoy.\n\nMark your calendars and prepare for an afternoon of boo-tiful mom
 ents at the Halloween Pop-Up Picnic—a perfect way to celebrate the seaso
 n in style!\n\nGET TICKETS\n
ATTACH;FMTTYPE=image/jpeg:https://breatheatlanta.us/wp-content/uploads/202
 4/10/Halloween-Pop-Up-Picnic.jpg
CATEGORIES:Food &amp; Drink Events,Things To Do
LOCATION:Westview Corner Grocery\, 1562 Ralph David Abernathy Boulevard Sou
 thwest Atlanta\, Atlanta\, Georgia\, 30310\,  GA\, United States
X-APPLE-STRUCTURED-LOCATION;VALUE=URI;X-ADDRESS=1562 Ralph David Abernathy 
 Boulevard Southwest Atlanta\, Atlanta\, Georgia\, 30310\,  GA\, United Sta
 tes;X-APPLE-RADIUS=100;X-TITLE=Westview Corner Grocery:geo:0,0
END:VEVENT
BEGIN:VTIMEZONE
TZID:America/New_York
X-LIC-LOCATION:America/New_York
BEGIN:DAYLIGHT
DTSTART:20240310T030000
TZOFFSETFROM:-0500
TZOFFSETTO:-0400
TZNAME:EDT
END:DAYLIGHT
END:VTIMEZONE
END:VCALENDAR