BEGIN:VCALENDAR
VERSION:2.0
PRODID:-//wp-events-plugin.com//7.2.3.1//EN
TZID:America/New_York
X-WR-TIMEZONE:America/New_York
BEGIN:VEVENT
UID:216@breatheatlanta.us
DTSTART;TZID=America/New_York:20240419T000000
DTEND;TZID=America/New_York:20240419T150000
DTSTAMP:20240404T101725Z
URL:https://breatheatlanta.us/events/hapeville-library-mini-health-resourc
 e-fair-spring-into-your-wellness/
SUMMARY:Hapeville Library Mini Health Resource Fair - Spring Into Your Well
 ness
DESCRIPTION:Indulge in a plethora of offerings including a complimentary gr
 oup fitness session\, an array of health vendors\, rejuvenating health scr
 eenings\, and much more!\n\nEvent Information:\n\nEvent Name: Hapeville Li
 brary Mini Health Resource Fair - Spring Into Your Wellness\n\nHost: Hight
  Health\n\nDate and Time: Friday\, April 19 • 12 - 3pm EDT\n\nLocation: 
 Hapeville Branch Library\, 525 King Arnold Street\, Hapeville\, GA 30354\,
  United States\n\nAbout this Event:  for the April Hapeville Library Mini
  Health Resource Fair hosted by Hight Health. This event is designed to he
 lp you "Spring Into Your Wellness" with a variety of offerings aimed at pr
 omoting health and well-being. Enjoy free health screenings\, access to we
 llness professionals\, information about paid clinical trials\, and meet w
 ith primary care groups for seniors. Don't miss the free group fitness ses
 sion led by Metric Mate at 1:00 PM. Plus\, there will be giveaways and ref
 reshments served throughout the event. Admission is free\, so come and tak
 e advantage of this opportunity to prioritize your health and wellness.\n\
 nTicket Price: Free Attendee Admission (Sales start on Apr 8\, 2024)\n\nGE
 T TICKETS\n\n\n\nWorkout Session Detail:\n\nA free group (light) fitness s
 ession for all attendees will be led by Metric Mate from 12:00 PM to 12:15
  PM.\n\nEssential for Bring:\n\nNot specified.\n\nParking Option:\n\nParki
 ng details are not provided\; attendees may need to inquire about parking 
 options or utilize nearby parking facilities.\n\n
ATTACH;FMTTYPE=image/jpeg:https://breatheatlanta.us/wp-content/uploads/202
 4/04/EQWEQWEQWEQWEQEQEQWE.jpg
CATEGORIES:Wellness Events
LOCATION:Hapeville Branch Library\,  525 King Arnold Street \, \, Hapeville
 \, United States\, 30354 \, GA \, United States
X-APPLE-STRUCTURED-LOCATION;VALUE=URI;X-ADDRESS= 525 King Arnold Street \, 
 \, Hapeville\, United States\, 30354 \, GA \, United States;X-APPLE-RADIUS
 =100;X-TITLE=Hapeville Branch Library:geo:0,0
END:VEVENT
BEGIN:VTIMEZONE
TZID:America/New_York
X-LIC-LOCATION:America/New_York
BEGIN:DAYLIGHT
DTSTART:20240310T030000
TZOFFSETFROM:-0500
TZOFFSETTO:-0400
TZNAME:EDT
END:DAYLIGHT
END:VTIMEZONE
END:VCALENDAR