BEGIN:VCALENDAR
VERSION:2.0
PRODID:-//wp-events-plugin.com//7.2.3.1//EN
TZID:America/New_York
X-WR-TIMEZONE:America/New_York
BEGIN:VEVENT
UID:373@breatheatlanta.us
DTSTART;TZID=America/New_York:20240816T120000
DTEND;TZID=America/New_York:20240816T150000
DTSTAMP:20240730T093743Z
URL:https://breatheatlanta.us/events/hapeville-library-mini-health-resourc
 e-fair/
SUMMARY:Hapeville Library Mini Health Resource Fair
DESCRIPTION:Join the Hapeville Branch Library for the July Mini Health Reso
 urce Fair\, specially themed as the "Back to School Edition." This engagin
 g event promises to be both informative and enjoyable\, featuring a blend 
 of health resources and essential school supplies.\n\nWhat to Expect:\n\n 
 	Health Resources: Explore a variety of health and wellness resources tail
 ored to support your family’s needs. Discover tips\, tools\, and informa
 tion to help you maintain a healthy lifestyle.\n 	School Supplies: Prepare
  for the upcoming school year with a selection of essential school supplie
 s available for kids. Equip your students with the materials they need to 
 succeed academically.\n 	Educational Opportunities: Learn about the divers
 e benefits and programs offered by the Hapeville Library\, designed to enh
 ance your educational and personal development.\n 	Fun and Refreshments: E
 njoy a day filled with fun activities\, and refreshments will be provided 
 to keep you energized and engaged.\n\nAdditional Information:\n\n 	Free Ad
 mission: This event is open to the public at no cost\, making it a fantast
 ic opportunity for families to access valuable resources and support.\n\nD
 on’t miss this chance to start the school year off right with a focus on
  health and education. Whether you're looking to boost your family's welln
 ess or gather school supplies\, the Hapeville Library Mini Health Resource
  Fair has something for everyone. We look forward to seeing you there and 
 helping you kick off a successful and healthy school year!\n\nGET TICKETS\
 n
ATTACH;FMTTYPE=image/jpeg:https://breatheatlanta.us/wp-content/uploads/202
 4/07/Hapeville-Library-Mini-Health-Resource-Fair.jpg
CATEGORIES:Mindfulness Events,Things To Do
LOCATION:Hapeville Branch Library\,  525 King Arnold Street \, \, Hapeville
 \, United States\, 30354 \, GA \, United States
X-APPLE-STRUCTURED-LOCATION;VALUE=URI;X-ADDRESS= 525 King Arnold Street \, 
 \, Hapeville\, United States\, 30354 \, GA \, United States;X-APPLE-RADIUS
 =100;X-TITLE=Hapeville Branch Library:geo:0,0
END:VEVENT
BEGIN:VTIMEZONE
TZID:America/New_York
X-LIC-LOCATION:America/New_York
BEGIN:DAYLIGHT
DTSTART:20240310T030000
TZOFFSETFROM:-0500
TZOFFSETTO:-0400
TZNAME:EDT
END:DAYLIGHT
END:VTIMEZONE
END:VCALENDAR