BEGIN:VCALENDAR
VERSION:2.0
PRODID:-//wp-events-plugin.com//7.2.3.1//EN
TZID:America/New_York
X-WR-TIMEZONE:America/New_York
BEGIN:VEVENT
UID:380@breatheatlanta.us
DTSTART;TZID=America/New_York:20240815T180000
DTEND;TZID=America/New_York:20240815T210000
DTSTAMP:20240730T180336Z
URL:https://breatheatlanta.us/events/happy-hour-healing-paint-release/
SUMMARY:HAPPY HOUR HEALING PAINT & RELEASE
DESCRIPTION:Join us for the Happy Hour Healing: Paint &amp\; Release Worksh
 op\, a unique event crafted to help you relax\, express yourself\, and rev
 italize your spirit. This immersive experience is designed to facilitate s
 tress relief and emotional release through the simple act of painting. The
  focus is not on producing a masterpiece but on channeling your emotions o
 nto the canvas in a liberating and therapeutic way.\n\nEvent Details:\n\n 
 	Date &amp\; Time: [Insert Date and Time Here]\n 	Location: [Insert Locati
 on Here]\n\nWhat to Expect:\n\n 	Creative Expression: Engage in a no-press
 ure painting session where the goal is personal expression rather than art
 istic skill.\n 	All Supplies Included: We provide everything you need\, in
 cluding canvases\, paints\, brushes\, and aprons.\n 	Light Refreshments: E
 njoy a selection of snacks and beverages to keep you refreshed and comfort
 able throughout the workshop.\n\nWhy Attend?\n\n 	Unwind and De-Stress: Us
 e painting as a medium to release built-up tension and find a sense of cal
 m.\n 	Embrace Your Creativity: No artistic experience is required—just b
 ring an open mind and a desire to explore your creative side.\n 	Connect w
 ith Yourself: Leave the workshop feeling lighter and more in tune with you
 r inner self.\n\nCome as you are\, and allow the colors to guide you on a 
 journey of emotional release and rejuvenation. Reserve your spot today and
  experience the healing power of creative expression in a supportive and e
 njoyable environment.\n\nGET TICKETS\n
ATTACH;FMTTYPE=image/jpeg:https://breatheatlanta.us/wp-content/uploads/202
 4/07/HAPPY-HOUR-HEALING-PAINT-RELEASE.jpg
CATEGORIES:Arts &amp; Performances,Mindfulness Events,Things To
 Do,Wellness Events
LOCATION:Bookstore Gallery\, Bookstore Gallery\, Atlanta\, GA\, 30313 \, GA
 \, United States
X-APPLE-STRUCTURED-LOCATION;VALUE=URI;X-ADDRESS=Bookstore Gallery\, Atlanta
 \, GA\, 30313 \, GA\, United States;X-APPLE-RADIUS=100;X-TITLE=Bookstore G
 allery:geo:0,0
END:VEVENT
BEGIN:VTIMEZONE
TZID:America/New_York
X-LIC-LOCATION:America/New_York
BEGIN:DAYLIGHT
DTSTART:20240310T030000
TZOFFSETFROM:-0500
TZOFFSETTO:-0400
TZNAME:EDT
END:DAYLIGHT
END:VTIMEZONE
END:VCALENDAR