BEGIN:VCALENDAR
VERSION:2.0
PRODID:-//wp-events-plugin.com//7.2.3.1//EN
TZID:America/New_York
X-WR-TIMEZONE:America/New_York
BEGIN:VEVENT
UID:498@breatheatlanta.us
DTSTART;TZID=America/New_York:20241004T090000
DTEND;TZID=America/New_York:20241031T180000
DTSTAMP:20240928T054715Z
URL:https://breatheatlanta.us/events/haunted-seas/
SUMMARY:Haunted Seas
DESCRIPTION:This October\, the Georgia Aquarium will undergo a thrilling tr
 ansformation as Haunted Seas returns with an all-new immersive experience.
  This year promises even more spine-tingling fun\, featuring fresh charact
 ers\, eerie legends\, and chilling sights that will captivate visitors of 
 all ages.\n\nBeginning October 4th\, guests can explore the haunted realms
  of Ocean Voyager\, Tropical Diver\, and River Scout\, each offering new i
 nteractive stations and surprise-filled encounters. Families will be delig
 hted to find expanded Halloween-themed programming\, including daily sea l
 ion and dolphin presentations with a spooky twist. Additionally\, the aqua
 rium’s atrium has been completely revamped\, now featuring the latest Ha
 lloween décor for an unforgettable welcome.\n\nVenture into the haunted d
 epths of Ocean Voyager\, where ghostly pirates roam the seas\, sharing bon
 e-chilling tales of hidden treasures and oceanic mysteries. Visitors will 
 navigate eerie waters as these spectral sailors guide them through the eer
 ie aquatic world.\n\nNext\, dive into the enchanting Tropical Diver galler
 y\, which has been transformed into the mesmerizing Mermaids Grotto. Here\
 , enchanting sirens and mystical sea creatures beckon guests\, offering a 
 magical underwater experience brimming with wonder and enchantment.\n\nCon
 tinue the journey through River Scout’s Haunted Jungle Cruise\, where th
 e eerie sounds of the wild mix with ghostly sights. This spooky river adve
 nture plunges visitors deeper into a twisted wilderness\, filled with surp
 rises lurking around every corner.\n\nOn weekends\, from 2-6 PM\, the exci
 tement reaches new heights with an enhanced trick-or-treat experience. Wit
 h expanded routes and even more treat stations\, young ghouls and goblins 
 can collect goodies as they embark on their spooky journey through the aqu
 arium’s haunted landscapes.\n\nBest of all\, all Halloween activities ar
 e included with the price of General Admission. Georgia Aquarium invites y
 ou to "sea" this spooktacular new adventure and dive into the haunted seas
  like never before!\n\nGET TICKETS\n
ATTACH;FMTTYPE=image/jpeg:https://breatheatlanta.us/wp-content/uploads/202
 4/09/Haunted-Seas.webp
CATEGORIES:Things To Do
LOCATION:Georgia Aquarium\, 225 Baker Street Northwest Atlanta\, Atlanta\, 
 Georgia\, 30313\, GA\, United States
X-APPLE-STRUCTURED-LOCATION;VALUE=URI;X-ADDRESS=225 Baker Street Northwest 
 Atlanta\, Atlanta\, Georgia\, 30313\, GA\, United States;X-APPLE-RADIUS=10
 0;X-TITLE=Georgia Aquarium:geo:0,0
END:VEVENT
BEGIN:VTIMEZONE
TZID:America/New_York
X-LIC-LOCATION:America/New_York
BEGIN:DAYLIGHT
DTSTART:20240310T030000
TZOFFSETFROM:-0500
TZOFFSETTO:-0400
TZNAME:EDT
END:DAYLIGHT
END:VTIMEZONE
END:VCALENDAR