BEGIN:VCALENDAR
VERSION:2.0
PRODID:-//wp-events-plugin.com//7.2.3.1//EN
TZID:America/New_York
X-WR-TIMEZONE:America/New_York
BEGIN:VEVENT
UID:710@breatheatlanta.us
DTSTART;TZID=America/New_York:20241117T130000
DTEND;TZID=America/New_York:20241117T170000
DTSTAMP:20241024T181400Z
URL:https://breatheatlanta.us/events/healing-after-suicide-retreat-for-att
 empt-loss-survivors/
SUMMARY:Healing After Suicide Retreat for Attempt & Loss Survivors
DESCRIPTION:\n\n\n\n\nJoin us at Haven Yoga for a transformative retreat de
 dicated to healing for individuals affected by suicide\, whether as attemp
 t survivors or those grieving a loss. This in-person event creates a safe 
 and supportive environment for participants to share their personal experi
 ences\, connect with others who understand their journey\, and discover ef
 fective coping strategies.\n\nThe retreat aims to foster a sense of commun
 ity and hope\, allowing attendees to engage in meaningful discussions and 
 activities that promote healing. Participants will have the opportunity to
  partake in self-care practices\, reflective exercises\, and various heali
 ng activities\, all set in a tranquil and nurturing environment.\n\nThis r
 etreat is a unique opportunity to connect with others who share similar ex
 periences and to take significant steps toward personal healing and empowe
 rment. Don’t miss this chance to find solace\, strength\, and a sense of
  belonging within a compassionate community.\n\nJoin us for a day of heali
 ng and support\, where together\, we can navigate the path toward hope and
  recovery.\n\n\n\n\n\n\n\n\n\n&nbsp\;\n\n4o mini\n\n\n\n\nGET TICKETS\n
ATTACH;FMTTYPE=image/jpeg:https://breatheatlanta.us/wp-content/uploads/202
 4/10/Healing-After-Suicide-Retreat-for-Attempt-Loss-Survivors.jpeg
CATEGORIES:Retreats Events
LOCATION:Haven Yoga\, 2011 Bolton Road\, Northwest Atlanta\, GA\, 30318\, G
 A\, United States
X-APPLE-STRUCTURED-LOCATION;VALUE=URI;X-ADDRESS=2011 Bolton Road\, Northwes
 t Atlanta\, GA\, 30318\, GA\, United States;X-APPLE-RADIUS=100;X-TITLE=Hav
 en Yoga:geo:0,0
END:VEVENT
BEGIN:VTIMEZONE
TZID:America/New_York
X-LIC-LOCATION:America/New_York
BEGIN:STANDARD
DTSTART:20241103T010000
TZOFFSETFROM:-0400
TZOFFSETTO:-0500
TZNAME:EST
END:STANDARD
END:VTIMEZONE
END:VCALENDAR