BEGIN:VCALENDAR
VERSION:2.0
PRODID:-//wp-events-plugin.com//7.2.3.1//EN
TZID:America/New_York
X-WR-TIMEZONE:America/New_York
BEGIN:VEVENT
UID:415@breatheatlanta.us
DTSTART;TZID=America/New_York:20240824T140000
DTEND;TZID=America/New_York:20240824T160000
DTSTAMP:20240802T204011Z
URL:https://breatheatlanta.us/events/healing-and-protection-bath-salts-wor
 kshop/
SUMMARY:Healing and Protection Bath Salts Workshop
DESCRIPTION:Step into a world of tranquility and empowerment at our Craftin
 g Serenity: Healing &amp\; Protection Bath Salts Workshop. This immersive\
 , hands-on event invites participants to explore the art of crafting perso
 nalized bath salts infused with healing and protective properties.\n\nWork
 shop Overview:\n\nIn this engaging session\, attendees will learn to blend
  various salts\, herbs\, and essential oils to create bath salts that are 
 not only soothing but also enhance energy cleansing and protection. Whethe
 r you're a novice or seasoned in bath salt creation\, this workshop offers
  a comprehensive guide to infusing your creations with meaningful intentio
 ns.\n\nWhat You Will Receive:\n\n 	Materials &amp\; Ingredients: All neces
 sary materials and ingredients for crafting your bath salts\, including a 
 selection of salts\, herbs\, and essential oils.\n 	Containers &amp\; Labe
 ls: Beautiful containers and labels for packaging your handmade bath salts
 .\n 	Refreshments: Light refreshments and snacks to enjoy while you work o
 n your creations.\n 	Guidance: Expert instruction to help you blend and cr
 aft bath salts that reflect your personal healing and protection goals.\n\
 nImmerse yourself in a soothing evening of creativity\, where you’ll lea
 ve with handcrafted bath salts that enhance your well-being. This workshop
  is a perfect opportunity to relax\, learn\, and connect with like-minded 
 individuals. For more updates and upcoming events\, follow us on Facebook 
 and Instagram @blackgirlblissbotanicals.\n\nJoin us for a night dedicated 
 to crafting serenity and protection—reserve your spot today!\n\nGET TICK
 ETS\n
ATTACH;FMTTYPE=image/jpeg:https://breatheatlanta.us/wp-content/uploads/202
 4/08/Healing-and-Protection-Bath-Salts-Workshop.jpg
CATEGORIES:Mindfulness Events,Things To Do,Wellness Events
LOCATION:Creatrix Creations Inc\, 1850 Georgia 85 #Suite C Fayetteville\, A
 tlanta\, Georgia\, 30215\, GA\, United States
X-APPLE-STRUCTURED-LOCATION;VALUE=URI;X-ADDRESS=1850 Georgia 85 #Suite C Fa
 yetteville\, Atlanta\, Georgia\, 30215\, GA\, United States;X-APPLE-RADIUS
 =100;X-TITLE=Creatrix Creations Inc:geo:0,0
END:VEVENT
BEGIN:VTIMEZONE
TZID:America/New_York
X-LIC-LOCATION:America/New_York
BEGIN:DAYLIGHT
DTSTART:20240310T030000
TZOFFSETFROM:-0500
TZOFFSETTO:-0400
TZNAME:EDT
END:DAYLIGHT
END:VTIMEZONE
END:VCALENDAR