BEGIN:VCALENDAR
VERSION:2.0
PRODID:-//wp-events-plugin.com//7.2.3.1//EN
TZID:America/New_York
X-WR-TIMEZONE:America/New_York
BEGIN:VEVENT
UID:150@breatheatlanta.us
DTSTART;TZID=America/New_York:20240328T140000
DTEND;TZID=America/New_York:20240328T153000
DTSTAMP:20240326T115603Z
URL:https://breatheatlanta.us/events/healing-anxiety-breathwork-masterclas
 s-stone-mountain/
SUMMARY:Healing Anxiety | Breathwork Masterclass - Stone Mountain
DESCRIPTION:Event Information:\n\n\nDiscover transformative breathwork tech
 niques with Sylvie Horvath to reduce anxiety and promote inner peace in th
 is empowering masterclass. Join us for a journey towards calmness and clar
 ity!\n\n 	Date and Time: Thursday\, March 28 · 2 - 3:30pm EDT\n 	Location
 : Online Zoom Meeting\, Stone Mountain\, GA 30083 United States\n\nAbout t
 his Event:\n\nJoin Sylvie Horvath for a transformative breathwork mastercl
 ass to reduce anxiety and find peace. Learn powerful techniques in this 90
 -minute session to manage stress and reset your nervous system for calm an
 d clarity.\n\nTicket Information:\n\n 	Ticket Price: $19\n 	No Refunds\n\n
 &nbsp\;\n\nGET TICKETS\n\nWorkout Session Detail:\n\nThe masterclass inclu
 des:\n\n 	Introduction &amp\; instructions\n 	Discussion\n 	45-minute Brea
 thing session\n 	Balance and align meditation\n 	Relaxation\n 	Sharing &am
 p\; questions and answers\n\nEssential for Bring:\n\n 	Reliable internet c
 onnection for online Zoom meeting\n 	Open mind for learning and self-heali
 ng journey\n 	Comfortable and quiet space for the session\n\nParking Optio
 n:\n\nN/A (Online event)\n\n\n\n\nExplore the transformative breathwork ex
 perience with Sylvie Horvath\, designed to reduce anxiety and promote inne
 r peace and well-being.\n\n\n\n\n\n\n\n
ATTACH;FMTTYPE=image/jpeg:https://breatheatlanta.us/wp-content/uploads/202
 4/03/Healing-Anxiety.jpg
CATEGORIES:Wellness Events
END:VEVENT
BEGIN:VTIMEZONE
TZID:America/New_York
X-LIC-LOCATION:America/New_York
BEGIN:DAYLIGHT
DTSTART:20240310T030000
TZOFFSETFROM:-0500
TZOFFSETTO:-0400
TZNAME:EDT
END:DAYLIGHT
END:VTIMEZONE
END:VCALENDAR