BEGIN:VCALENDAR
VERSION:2.0
PRODID:-//wp-events-plugin.com//7.2.3.1//EN
TZID:America/New_York
X-WR-TIMEZONE:America/New_York
BEGIN:VEVENT
UID:540@breatheatlanta.us
DTSTART;TZID=America/New_York:20241028T130000
DTEND;TZID=America/New_York:20241028T141000
DTSTAMP:20241001T120915Z
URL:https://breatheatlanta.us/events/healing-breathwork-accelerate-emotion
 al-and-physical-healing-in-smyrna/
SUMMARY:Healing Breathwork | Accelerate Emotional and Physical Healing in S
 myrna
DESCRIPTION:Join an immersive Healing Breathwork experience that accelerate
 s both emotional and physical healing. Purchase a ticket to our live event
  in Smyrna and receive 7-day bonus access to a variety of resources\, incl
 uding Healing Sessions\, Masterclasses\, Breathing Experiences\, and Live 
 Breathing Classes. This is your opportunity to dive deeper into the power 
 of breathwork for healing and transformation.\n\nPowerful Healing Breathwo
 rk Session\n\nThe Healing Breathwork session is a 75-minute online experie
 nce focused on Soul Dimension Breathing techniques. These sessions are des
 igned to address your unique healing needs\, providing a powerful tool to 
 release emotional blockages and accelerate your healing journey. By focusi
 ng on the breath\, participants will learn techniques to facilitate healin
 g at both the physical and emotional levels.\n\nBegin Your Healing Journey
 \n\nKickstart your week with this transformative practice. During the sess
 ion\, you will be gently guided to connect with the deeper layers of your 
 body\, mind\, heart\, and soul. Through this exploration\, you will access
  a profound connection that supports self-healing on multiple levels. The 
 Soul Dimension Breathing technique helps you unlock the potential within y
 ou\, allowing for a deeper sense of well-being and healing.\n\nWhether you
 're looking to release emotional blocks\, enhance physical recovery\, or s
 imply reconnect with yourself\, this breathwork session offers a powerful 
 pathway toward holistic healing. Take the next step in your journey and ex
 perience the profound benefits of guided breathwork.\n\nRegister now to em
 bark on this healing experience and enjoy the bonus access to additional r
 esources.\n\nGET TICKETS\n
ATTACH;FMTTYPE=image/jpeg:https://breatheatlanta.us/wp-content/uploads/202
 4/10/Healing-Breathwork-Accelerate-emotional-and-physical-healing-•-Smyr
 na.jpg
CATEGORIES:Wellness Events
LOCATION:Soul Dimension\, Online Zoom Meeting\, Smyrna\, Georgia\, 30080\, 
 GA\, United States
X-APPLE-STRUCTURED-LOCATION;VALUE=URI;X-ADDRESS=Online Zoom Meeting\, Smyrn
 a\, Georgia\, 30080\, GA\, United States;X-APPLE-RADIUS=100;X-TITLE=Soul D
 imension:geo:0,0
END:VEVENT
BEGIN:VTIMEZONE
TZID:America/New_York
X-LIC-LOCATION:America/New_York
BEGIN:DAYLIGHT
DTSTART:20240310T030000
TZOFFSETFROM:-0500
TZOFFSETTO:-0400
TZNAME:EDT
END:DAYLIGHT
END:VTIMEZONE
END:VCALENDAR