BEGIN:VCALENDAR
VERSION:2.0
PRODID:-//wp-events-plugin.com//7.2.3.1//EN
TZID:America/New_York
X-WR-TIMEZONE:America/New_York
BEGIN:VEVENT
UID:544@breatheatlanta.us
DTSTART;TZID=America/New_York:20241019T100000
DTEND;TZID=America/New_York:20241019T190000
DTSTAMP:20241001T124814Z
URL:https://breatheatlanta.us/events/healing-psychic-fair-overview/
SUMMARY:Healing Psychic Fair Overview
DESCRIPTION:The Healing Psychic Fair provides an enriching opportunity for 
 individuals seeking clarity about their destiny\, guidance for spiritual g
 rowth\, and connections with the spirit world. This event aims to familiar
 ize the community with Spirit-to-Spirit communication\, offering avenues f
 or spiritual counseling and healing. It emphasizes that everyone has the p
 otential to develop their spiritual abilities and provides a supportive en
 vironment where participants can practice reading\, counseling\, and heali
 ng themselves and others.\n\nEvent Highlights\n\nAt the Healing Psychic Fa
 ir\, attendees will have the chance to engage with some of Atlanta's most 
 renowned esoteric practitioners\, including:\n\n 	Reiki Practitioners\n 	N
 umerologists\n 	Astrologers\n 	Akashic Record Readers\n 	Mediums\n 	Tarot 
 Readers\n 	Bone Readers\n 	Diviners\n 	Psychics\n 	Intuitives\n 	Palmists\
 n 	Crystal Healers\n\nParticipation Details\n\nEntry to the event requires
  a $20 donation at the door\, while children aged 12 and under can join fo
 r just $5. Vendors at the fair are free to set their own prices\, and some
  may offer complimentary services. For those interested in showcasing thei
 r spiritual gifts as a vendor\, a $60 donation secures a table. Interested
  individuals can contact Healing Hands Reiki &amp\; Spiritual Development 
 Inc. via email at healinghandsreikiatl@gmail.com or call 313-671-5804 for 
 more information.\n\nAll proceeds from the fair support the mission of Hea
 ling Hands Reiki &amp\; Spiritual Development Inc.\, a recognized 501(c)(3
 ) nonprofit organization\, making donations tax-deductible. Please note th
 at no shoes are allowed in the shala\; attendees must place them in the de
 signated shoe area.\n\nMission and Vision\n\nHealing Hands Reiki Inc. is d
 edicated to empowering individuals to take charge of their healing journey
 s by integrating Reiki practices into healthcare systems and community org
 anizations. Their vision is to foster a supportive wellness community\, pr
 omoting optimal living and encouraging individuals to harness their innate
  healing abilities for a balanced life.\n\nServices Offered\n\nThe organiz
 ation provides a variety of services\, including:\n\n 	Reiki energy treatm
 ents and attunements\n 	Hands-on Reiki practice through community share gr
 oups\n 	Informative workshops and classes for medical professionals and ca
 regivers\n 	Certificates for instructional Reiki training\n 	Yoga\, medita
 tion\, and conscious living classes\n 	Spiritual support from ordained min
 isters across various faiths\n 	Spiritual products and tools\n\nThrough th
 eir community outreach and educational programs\, Healing Hands Reiki &amp
 \; Spiritual Development Inc. teaches Reiki as a complementary holistic pr
 actice that enhances health\, well-being\, and harmonious living.\n\nFor m
 ore information about the Healing Psychic Fair and the services offered by
  Healing Hands Reiki\, please visit their website or connect with them on 
 social media platforms like Facebook\, Instagram\, and YouTube.\n\nGET TIC
 KETS\n
ATTACH;FMTTYPE=image/jpeg:https://breatheatlanta.us/wp-content/uploads/202
 4/10/Healing-Psychic-Fair.jpg
CATEGORIES:Wellness Events
LOCATION:Healing Hands Reiki & Spiritual Development\, 27 Waddell St NE Sui
 te\, A Atlanta\, Georgia\, 30307\, GA\, United States
X-APPLE-STRUCTURED-LOCATION;VALUE=URI;X-ADDRESS=27 Waddell St NE Suite\, A 
 Atlanta\, Georgia\, 30307\, GA\, United States;X-APPLE-RADIUS=100;X-TITLE=
 Healing Hands Reiki & Spiritual Development:geo:0,0
END:VEVENT
BEGIN:VTIMEZONE
TZID:America/New_York
X-LIC-LOCATION:America/New_York
BEGIN:DAYLIGHT
DTSTART:20240310T030000
TZOFFSETFROM:-0500
TZOFFSETTO:-0400
TZNAME:EDT
END:DAYLIGHT
END:VTIMEZONE
END:VCALENDAR