BEGIN:VCALENDAR
VERSION:2.0
PRODID:-//wp-events-plugin.com//7.2.3.1//EN
TZID:America/New_York
X-WR-TIMEZONE:America/New_York
BEGIN:VEVENT
UID:331@breatheatlanta.us
DTSTART;TZID=America/New_York:20240620T100000
DTEND;TZID=America/New_York:20240620T190000
DTSTAMP:20240627T055213Z
URL:https://breatheatlanta.us/events/healing-psychic-fair/
SUMMARY:Healing Psychic Fair
DESCRIPTION:Do you have burning questions about your destiny? Are you seeki
 ng guidance for your spiritual development or wish to connect with the spi
 rit world? The Healing Psychic Fair is designed to provide the community w
 ith an immersive experience in Spirit-to-Spirit communication\, spiritual 
 counseling\, and healing. This event aims to empower individuals by demons
 trating that they\, too\, can develop these abilities.\n\nEvent Details:\n
 \n 	Purpose: The fair offers a unique opportunity to experience Spirit-to-
 Spirit communication\, benefit from spiritual counseling and healing\, and
  learn that everyone has the potential to develop these skills.\n 	Activit
 ies: Participants can engage in reading\, counseling\, and healing session
 s\, enhancing their spirituality while helping others.\n\nWhat to Expect:\
 n\n 	Diverse Practitioners: Meet and learn from Atlanta’s esoteric exper
 ts\, including:\n\n 	Reiki Practitioners\n 	Numerologists\n 	Astrologers\n
  	Akashic Record Readers\n 	Mediums\n 	Tarot Readers\n 	Holistic Practitio
 ners\n 	Diviners\n 	Psychics\n 	Spirit Artists\n 	Intuitives\n 	Palmists\n
  	Crystal Healers\n\n\n\nWhy Attend:\n\n 	Spiritual Insight: Gain clarity 
 on your destiny and spiritual path through various esoteric practices.\n 	
 Community Connection: Connect with like-minded individuals and practitione
 rs who share your interest in spiritual development.\n 	Personal Growth: E
 nhance your spiritual abilities by practicing readings\, counseling\, and 
 healing with guidance from experienced practitioners.\n\nJoin Us:\n\nDon
 ’t miss the chance to explore the realms of spiritual guidance and heali
 ng at the Healing Psychic Fair. Immerse yourself in a day of esoteric disc
 overy and personal growth. Meet Atlanta’s finest spiritual practitioners
  and take a step towards unlocking your spiritual potential. Secure your s
 pot today for an enlightening and transformative experience!\n\nGET TICKET
 S\n
ATTACH;FMTTYPE=image/jpeg:https://breatheatlanta.us/wp-content/uploads/202
 4/06/Healing-Psychic-Fair.jpg
CATEGORIES:Mindfulness Events,Wellness Events
LOCATION:Healing Hands Reiki & Spiritual Development\, 27 Waddell St NE Sui
 te #A Atlanta\, GA 30307 United States\, GA\, United States\,  30307 \, GA
 \, United States
X-APPLE-STRUCTURED-LOCATION;VALUE=URI;X-ADDRESS=27 Waddell St NE Suite #A A
 tlanta\, GA 30307 United States\, GA\, United States\,  30307 \, GA\, Unit
 ed States;X-APPLE-RADIUS=100;X-TITLE=Healing Hands Reiki & Spiritual Devel
 opment:geo:0,0
END:VEVENT
BEGIN:VTIMEZONE
TZID:America/New_York
X-LIC-LOCATION:America/New_York
BEGIN:DAYLIGHT
DTSTART:20240310T030000
TZOFFSETFROM:-0500
TZOFFSETTO:-0400
TZNAME:EDT
END:DAYLIGHT
END:VTIMEZONE
END:VCALENDAR