BEGIN:VCALENDAR
VERSION:2.0
PRODID:-//wp-events-plugin.com//7.2.3.1//EN
TZID:America/New_York
X-WR-TIMEZONE:America/New_York
BEGIN:VEVENT
UID:606@breatheatlanta.us
DTSTART;TZID=America/New_York:20241109T150000
DTEND;TZID=America/New_York:20241109T200000
DTSTAMP:20241013T092304Z
URL:https://breatheatlanta.us/events/healing-while-building-summit-at-pop-
 up-and-create/
SUMMARY:Healing While Building Summit at Pop Up and Create
DESCRIPTION:The Healing While Building Summit (HWB) is a powerful two-day e
 vent created for driven entrepreneurs and creatives who are eager to focus
  on personal healing while advancing their business ventures. Set to take 
 place on November 9-10\, 2024\, in Atlanta\, this transformative summit of
 fers a unique blend of activities designed to nurture both personal growth
  and professional success.\n\nAttendees will experience a range of immersi
 ve sessions\, including healing activations\, interactive breakout session
 s\, and mindset hot seats\, all aimed at fostering emotional and entrepren
 eurial breakthroughs. Additionally\, the event will feature dynamic empowe
 rment panels\, a vendor expo showcasing innovative products\, and a specia
 l live performance by a healing artist.\n\nFor those seeking an even more 
 elevated experience\, VIP ticket holders will gain exclusive access to int
 imate networking mixers\, personalized branding workshops\, and other prem
 ium offerings.\n\nLocated at the vibrant creative hub Pop Up and Create in
  Marietta\, GA\, participants can choose to attend for one day or enjoy th
 e full two-day experience. The summit is also seeking sponsors to support 
 its impactful mission.\n\nFor more information or sponsorship inquiries\, 
 visit www.healingwhilebuildingsummit.com or email at healingwhilebuildings
 ummit.com.\n\nCurated by: @healingwhilebuilding X @lashanawest\n\nThis eve
 nt promises to be a transformative journey\, combining personal healing wi
 th entrepreneurial empowerment in a supportive\, community-driven environm
 ent.\n\nGET TICKETS\n
ATTACH;FMTTYPE=image/jpeg:https://breatheatlanta.us/wp-content/uploads/202
 4/10/Healing-While-Building-Summit-at-Pop-Up-and-Create.jpeg
CATEGORIES:Wellness Events
LOCATION:Pop UP And Create Coworking and Event Space\, 2130 Kingston Court 
 \, #Suite D Marietta\, Georgia\, 30067\, GA\, United States
X-APPLE-STRUCTURED-LOCATION;VALUE=URI;X-ADDRESS=2130 Kingston Court \, #Sui
 te D Marietta\, Georgia\, 30067\, GA\, United States;X-APPLE-RADIUS=100;X-
 TITLE=Pop UP And Create Coworking and Event Space:geo:0,0
END:VEVENT
BEGIN:VTIMEZONE
TZID:America/New_York
X-LIC-LOCATION:America/New_York
BEGIN:STANDARD
DTSTART:20241103T010000
TZOFFSETFROM:-0400
TZOFFSETTO:-0500
TZNAME:EST
END:STANDARD
END:VTIMEZONE
END:VCALENDAR