BEGIN:VCALENDAR
VERSION:2.0
PRODID:-//wp-events-plugin.com//7.2.3.1//EN
TZID:America/New_York
X-WR-TIMEZONE:America/New_York
BEGIN:VEVENT
UID:700@breatheatlanta.us
DTSTART;TZID=America/New_York:20241120T190000
DTEND;TZID=America/New_York:20241120T210000
DTSTAMP:20241024T173849Z
URL:https://breatheatlanta.us/events/healn-humpdays/
SUMMARY:Heal'n Humpdays
DESCRIPTION:\n\n\n\n\nStarting on Wednesday\, September 11\, 2024\, at 7 PM
 \, the Atlanta Blockchain Center will join forces with HEALn Help to launc
 h "Heal'n Hump Day\," a weekly initiative dedicated to supporting the emot
 ional well-being of blockchain professionals.\n\nUnderstanding the intense
 \, high-pressure environment that often comes with working in the blockcha
 in and crypto industries\, the Atlanta Blockchain Center has recognized th
 e critical role mental and emotional health play in sustaining the success
  of its community. By partnering with HEALn Help\, they aim to provide a s
 pace for blockchain entrepreneurs and professionals to prioritize their me
 ntal well-being.\n\nThe "Heal'n Hump Day" sessions will be hosted at the C
 enter's Buckhead location every Wednesday evening. These midweek gathering
 s are designed to offer professionals the tools needed for mental clarity\
 , emotional resilience\, and overall wellness. The sessions will allow att
 endees to pause\, reflect\, and recharge\, fostering a balanced environmen
 t that supports both innovation and personal growth.\n\nThis initiative re
 flects the Atlanta Blockchain Center's commitment to not only driving inno
 vation within the blockchain space but also ensuring that the emotional he
 alth of its members is nurtured. By creating a culture where wellness is p
 rioritized alongside professional achievement\, the Center is contributing
  to the long-term success and well-being of its community.\n\nJoin them fo
 r this transformative experience every Wednesday evening at 7 PM\, and be 
 part of a movement that emphasizes healing\, growth\, and resilience.\n\nE
 vent Details:\n\n 	Location: Atlanta Blockchain Center\, 45 Old Ivy Rd NE\
 , Atlanta\, GA 30342\n 	Date: Wednesday\, September 11\, 2024\n 	Time: 7:0
 0 PM EST\n\n\n\n\n\n\n\n\n\n&nbsp\;\n\n4o\n\n\n\n\nGET TICKETS\n
ATTACH;FMTTYPE=image/jpeg:https://breatheatlanta.us/wp-content/uploads/202
 4/10/Healn-Humpdays.jpeg
CATEGORIES:Wellness Events
LOCATION:Atlanta Blockchain Center\, 45 Old Ivy Road \, Northeast Atlanta\,
  Georgia\, 30342\, GA\, United States
X-APPLE-STRUCTURED-LOCATION;VALUE=URI;X-ADDRESS=45 Old Ivy Road \, Northeas
 t Atlanta\, Georgia\, 30342\, GA\, United States;X-APPLE-RADIUS=100;X-TITL
 E=Atlanta Blockchain Center:geo:0,0
END:VEVENT
BEGIN:VTIMEZONE
TZID:America/New_York
X-LIC-LOCATION:America/New_York
BEGIN:STANDARD
DTSTART:20241103T010000
TZOFFSETFROM:-0400
TZOFFSETTO:-0500
TZNAME:EST
END:STANDARD
END:VTIMEZONE
END:VCALENDAR