BEGIN:VCALENDAR
VERSION:2.0
PRODID:-//wp-events-plugin.com//7.2.3.1//EN
TZID:America/New_York
X-WR-TIMEZONE:America/New_York
BEGIN:VEVENT
UID:418@breatheatlanta.us
DTSTART;TZID=America/New_York:20240918T073000
DTEND;TZID=America/New_York:20240918T170000
DTSTAMP:20240903T073520Z
URL:https://breatheatlanta.us/events/health-connect-south-gathering-2024-2
 /
SUMMARY:Health Connect South Gathering 2024
DESCRIPTION:Join us in celebrating the 11th Annual Health Connect South Gat
 hering on September 18\, 2024! Since its inception in 2013\, Health Connec
 t South has grown into the Southeast's premier platform for fostering regi
 onal health collaborations. This event is more than just a conference—it
 's a movement aimed at defining and advancing the Southeast's role in the 
 future of healthcare. By breaking down industry silos\, Health Connect Sou
 th facilitates unique and meaningful partnerships that drive health innova
 tion and collaboration across the region.\n\nWe're thrilled to announce th
 at the 2024 Gathering will be held in person at the Georgia Aquarium\, a f
 itting venue for the Southeast's largest healthcare event. The Southeast h
 as long been a leader in healthcare collaborations\, innovation\, and thou
 ght leadership\, and this gathering will spotlight those achievements.\n\n
 Last year's event brought together over 1\,200 decision-makers\, innovator
 s\, and emerging leaders in the health sector. As we mark our 11th anniver
 sary\, we look forward to another year of inspiring connections\, groundbr
 eaking ideas\, and celebrating the incredible advancements in healthcare t
 hat are shaping our future.\n\nDon't miss this opportunity to be part of a
  community where\, together\, health advances.\n\nGET TICKETS\n
ATTACH;FMTTYPE=image/jpeg:https://breatheatlanta.us/wp-content/uploads/202
 4/09/Health-Connect-South-Gathering-2024.jpg
CATEGORIES:Mindfulness Events,Things To Do,Wellness Events
LOCATION:Georgia Aquarium\, 225 Baker Street Northwest Atlanta\, Atlanta\, 
 Georgia\, 30313\, GA\, United States
X-APPLE-STRUCTURED-LOCATION;VALUE=URI;X-ADDRESS=225 Baker Street Northwest 
 Atlanta\, Atlanta\, Georgia\, 30313\, GA\, United States;X-APPLE-RADIUS=10
 0;X-TITLE=Georgia Aquarium:geo:0,0
END:VEVENT
BEGIN:VTIMEZONE
TZID:America/New_York
X-LIC-LOCATION:America/New_York
BEGIN:DAYLIGHT
DTSTART:20240310T030000
TZOFFSETFROM:-0500
TZOFFSETTO:-0400
TZNAME:EDT
END:DAYLIGHT
END:VTIMEZONE
END:VCALENDAR