BEGIN:VCALENDAR
VERSION:2.0
PRODID:-//wp-events-plugin.com//7.2.3.1//EN
TZID:America/New_York
X-WR-TIMEZONE:America/New_York
BEGIN:VEVENT
UID:231@breatheatlanta.us
DTSTART;TZID=America/New_York:20240727T100000
DTEND;TZID=America/New_York:20240727T160000
DTSTAMP:20240407T120400Z
URL:https://breatheatlanta.us/events/health-wellness-and-beauty-expo/
SUMMARY:The Calling Forth of the WOMAN Conference Health\, Wellness\, and B
 eauty Expo
DESCRIPTION:\nCalling All Women: The Calling Forth of the WOMAN Conference 
 Awaits!\nCalling Forth of the WOMAN Conference invites you to a day of emp
 owerment\, education\, and inspiration on Saturday\, July 27th\, 2024\, at
  the Lou Walker Senior Center's "Victory Room." This event celebrates the 
 divine within us all\, uplifting women from every background.\nHere's what
  awaits you:\n\n\n 	Empowering Faith: Be ignited by the "Powerful Prolific
  Prophetic Speakers" who will share their insights and strengthen your wal
 k with the Word of God.\n 	Uplifting Music: Let your spirit soar with the 
 inspiring melodies of the "Dynamic Musical Artist."\n 	Holistic Wellness: 
 Find balance and harmony for your mind\, body\, and soul with inspirationa
 l speakers addressing health\, wellness\, and self-care.\n 	Beauty Inside 
 &amp\; Out: Discover tips and tricks to enhance your natural beauty and ce
 lebrate your unique essence through workshops and exhibitor booths.\n 	Fas
 hion Inspiration: Get a glimpse of the latest trends with a captivating mi
 ni fashion show.\n 	Shop &amp\; Connect: Explore a diverse selection of ve
 ndors offering a variety of products and services that cater to your well-
 being. Network with like-minded individuals and discover new ways to inves
 t in yourself.\n 	Delicious Lunch: Savor a delicious lunch included in you
 r registration\, adding to the enjoyable experience.\n\nThis event is more
  than just a conference\; it's a community. Connect with women who share y
 our values and celebrate the strength and beauty within you. Leave feeling
  rejuvenated\, empowered\, and inspired to embrace your wholeness – your
  spirit\, soul\, body\, and unique beauty.\nDon't miss this incredible opp
 ortunity! Register early and take advantage of the EarlyBird Code for spec
 ial savings. This is your chance to prioritize your well-being\, celebrate
  your faith\, and connect with a supportive community.\nVendor opportuniti
 es are also available! For inquiries\, contact thecalling.lwilder@gmail.co
 m.\nJoin us at the Calling Forth of the WOMAN Conference and embark on a t
 ransformative journey towards wholeness and empowerment!\n\n\n\n\nBOOK SPO
 TS\n\n
ATTACH;FMTTYPE=image/jpeg:https://breatheatlanta.us/wp-content/uploads/202
 4/04/https___cdn.evbuc_.com_images_730050409_93238038363_1_original.jpeg
CATEGORIES:Wellness Events
LOCATION:Lou Walker Senior Center\, 2538 Panola Road\, Lithonia\, Georgia\,
  30058\, United States
X-APPLE-STRUCTURED-LOCATION;VALUE=URI;X-ADDRESS=2538 Panola Road\, Lithonia
 \, Georgia\, 30058\, United States;X-APPLE-RADIUS=100;X-TITLE=Lou Walker S
 enior Center:geo:0,0
END:VEVENT
BEGIN:VTIMEZONE
TZID:America/New_York
X-LIC-LOCATION:America/New_York
BEGIN:DAYLIGHT
DTSTART:20240310T030000
TZOFFSETFROM:-0500
TZOFFSETTO:-0400
TZNAME:EDT
END:DAYLIGHT
END:VTIMEZONE
END:VCALENDAR