BEGIN:VCALENDAR
VERSION:2.0
PRODID:-//wp-events-plugin.com//7.2.3.1//EN
TZID:America/New_York
X-WR-TIMEZONE:America/New_York
BEGIN:VEVENT
UID:71@breatheatlanta.us
DTSTART;TZID=America/New_York:20240420T140000
DTEND;TZID=America/New_York:20240420T173000
DTSTAMP:20240314T143224Z
URL:https://breatheatlanta.us/events/health-wellness-vision-board-party-2/
SUMMARY:Health & Wellness Vision Board Party
DESCRIPTION:\nUnleash your inner artist and manifest your healthiest self a
 t our vision board workshop! This vibrant in-person event\, held at Hydrat
 e 4 U Wellness\, provides the perfect space to unlock your creative potent
 ial and visualize your health and wellness goals.\nImagine an afternoon fi
 lled with positive energy and shared intention setting. We'll provide all 
 the materials you need to craft a vision board that resonates with your de
 epest desires\, from vibrant images to inspiring quotes.\nThis isn't a sol
 itary pursuit – it's a chance to connect with a supportive community of 
 like-minded individuals. Share ideas\, offer encouragement\, and be empowe
 red by the collective energy as you embark on your wellness journeys toget
 her.\nOur event goes beyond crafting a collage\; it's a springboard for se
 lf-discovery and growth. Let the inspiring atmosphere ignite a spark withi
 n you\, aligning perfectly with our guiding principle: "Be A Better U 4 U.
 " This empowering message encourages you to prioritize your well-being and
  embrace a transformative journey towards becoming the best version of you
 rself.\nDon't miss this opportunity to create a tangible roadmap for your 
 wellness goals and connect with a supportive community. Join us at Hydrate
  4 U Wellness and take the first step towards a healthier\, happier you!\n
 \n\n\n\nGET TICKETS\n\n
ATTACH;FMTTYPE=image/jpeg:https://breatheatlanta.us/wp-content/uploads/202
 4/03/https___cdn.evbuc_.com_images_713171249_1960326063183_1_original.jpeg
CATEGORIES:Wellness Events
LOCATION:3293 Stone Mountain\, 3293 Stone Mountain Highway \, Snellville\, 
 Georgia\, 30078 \, United States
X-APPLE-STRUCTURED-LOCATION;VALUE=URI;X-ADDRESS=3293 Stone Mountain Highway
  \, Snellville\, Georgia\, 30078 \, United States;X-APPLE-RADIUS=100;X-TIT
 LE=3293 Stone Mountain:geo:0,0
END:VEVENT
BEGIN:VTIMEZONE
TZID:America/New_York
X-LIC-LOCATION:America/New_York
BEGIN:DAYLIGHT
DTSTART:20240310T030000
TZOFFSETFROM:-0500
TZOFFSETTO:-0400
TZNAME:EDT
END:DAYLIGHT
END:VTIMEZONE
END:VCALENDAR