BEGIN:VCALENDAR
VERSION:2.0
PRODID:-//wp-events-plugin.com//7.2.3.1//EN
TZID:America/New_York
X-WR-TIMEZONE:America/New_York
BEGIN:VEVENT
UID:105@breatheatlanta.us
DTSTART;TZID=America/New_York:20240420T100000
DTEND;TZID=America/New_York:20240420T120000
DTSTAMP:20240323T072604Z
URL:https://breatheatlanta.us/events/healthcare-open-house-westside-works/
SUMMARY:Healthcare Open House @Westside Works
DESCRIPTION:At the Healthcare Open House @Westside Works on January 27th\, 
 where you'll embark on an enlightening journey to explore and delve into a
  myriad of healthcare programs awaiting your discovery!\n\nEvent Informati
 on:\n\nEvent Name: Healthcare Open House @Westside Works\n\nHost: Westside
  Works\n\nDate and Time: Saturday\, April 20\, 10:00 AM - 12:00 PM EDT.\n\
 nLocation: Westside Works\, 261 Joseph E. Lowery Boulevard Northwest\, Atl
 anta\, GA 30314\, United States\n\nTicket Information:\n\nAdmission: Free\
 n\nDelivery: eTicket\, no additional charge\n\nGET TICKETS\n\nAbout this E
 vent:\n\nThe Healthcare Open House at Westside Works and dive into the wor
 ld of healthcare on Saturday\, April 20\, from 10:00 AM to 12:00 PM EDT.\n
 \nDiscover the vast array of opportunities in the healthcare field\, wheth
 er you're aspiring to be a phlebotomist\, medical assistant\, or healthcar
 e administrator. This open house provides a unique chance to gather inform
 ation and gain insight into potential career paths.\n\nEngage with industr
 y professionals\, participate in hands-on demonstrations\, and attend info
 rmative presentations to learn about the educational programs offered at W
 estside Works. Our team will be available to assist with registration for 
 New Customer Intake and provide information about career services and addi
 tional resources available to you.\n\nWorkout Session Detail:\n\nDuration:
  2 hours\n\nExplore various healthcare programs and opportunities.\n\nInte
 ract with industry professionals.\n\nHands-on demonstrations and informati
 ve presentations\n\nAssistance with registration for New Customer Intake a
 nd career services\n\nEssential for Bring:\n\nNotebook and pen for taking 
 notes\n\nQuestions about healthcare programs and career opportunities\n\nO
 pen mind and eagerness to learn and explore\n\nParking Option:\n\nParking 
 is available at Westside Works\n\n&nbsp\;
ATTACH;FMTTYPE=image/jpeg:https://breatheatlanta.us/wp-content/uploads/202
 4/03/yuioo.jpg
CATEGORIES:Wellness Events
LOCATION:westside works\, 261 Joseph E. Lowery Boulevard Northwest Atlanta\
 , GA 30314 United States\, GA \, United States\, 30314 \, GA\, United Stat
 es
X-APPLE-STRUCTURED-LOCATION;VALUE=URI;X-ADDRESS=261 Joseph E. Lowery Boulev
 ard Northwest Atlanta\, GA 30314 United States\, GA \, United States\, 303
 14 \, GA\, United States;X-APPLE-RADIUS=100;X-TITLE=westside works:geo:0,0
END:VEVENT
BEGIN:VTIMEZONE
TZID:America/New_York
X-LIC-LOCATION:America/New_York
BEGIN:DAYLIGHT
DTSTART:20240310T030000
TZOFFSETFROM:-0500
TZOFFSETTO:-0400
TZNAME:EDT
END:DAYLIGHT
END:VTIMEZONE
END:VCALENDAR