BEGIN:VCALENDAR
VERSION:2.0
PRODID:-//wp-events-plugin.com//7.2.3.1//EN
TZID:America/New_York
X-WR-TIMEZONE:America/New_York
BEGIN:VEVENT
UID:58@breatheatlanta.us
DTSTART;TZID=America/New_York:20240413T140000
DTEND;TZID=America/New_York:20240413T150000
DTSTAMP:20240315T100802Z
URL:https://breatheatlanta.us/events/healthy-eating-workshops/
SUMMARY:Healthy Eating Workshops
DESCRIPTION:\n\n\n\n\n\n\n\n\n\n\n\n\n\n\n\n\n\n\n\n\n\n\n\n\nHealthy Eatin
 g stands as a pivotal monthly gathering\, drawing together individuals fro
 m the community to immerse themselves in the pleasures of gastronomy while
  simultaneously delving into the art of making conscientious and health-co
 nscious culinary selections. It serves as a vibrant forum where attendees 
 can not only savor the delights of wholesome cuisine but also embark on an
  enlightening journey towards understanding and embracing nutritious eatin
 g habits. Through interactive sessions\, informative discussions\, and tan
 talizing culinary experiences\, participants are empowered to navigate the
  intricate landscape of dietary choices\, fostering a deeper connection to
  their health and well-being within the communal tapestry of shared culina
 ry exploration.\n\n\n\n\n\n\n\n\n\n\n\n\n\nEvent Information:\n\nEvent Nam
 e: Healthy Eating Workshops\n\nHost: Ms. Bernise Learning Tree\n\nDate and
  Time: Saturday\, April 13\, 2:00 PM - 3:00 PM EDT\n\nLocation: Pittsburgh
  Yards\, 352 University Avenue Southwest Atlanta\, GA 30310\, United State
 s\n\nRefund Policy: Contact the organizer for refund requests\; Eventbrite
 's fee is nonrefundable.\n\n\n\nGET TICKETS\n\nAbout this Event:\n\nThe He
 althy Eating Workshops are monthly events designed to bring the community 
 together to enjoy healthy and delicious food while learning strategies to 
 start and maintain healthier eating habits for optimum health and well-bei
 ng. Each session\, hosted by Ms. Bernise Learning Tree\, focuses on nutrie
 nt-dense foods that energize the body's chakra centers. The event includes
  interactive activities\, education\, recipes\, and food tasting. A light 
 lunch is included.\n\nTicket Information:\n\nVIP Ticket\n\nPrice: $25.00 (
 +$3.52 Fee / +$2.54 Sales Tax)\n\nDescription: Includes a main entree with
  sides\, dessert\, and a drink. Non-refundable.\n\nSales End: April 11\, 2
 024\n\nGeneral Admission\n\nPrice: $15.00 (+$2.85 Fee / +$1.59 Sales Tax)\
 n\nDescription: Provides bite-sized samples. Non-refundable.\n\nSales End:
  April 11\, 2024\n\nChild Ticket\n\nPrice: $12.00 (+$2.64 Fee / +$1.30 Sal
 es Tax)\n\nDescription: Includes child portions of an entree with sides\, 
 dessert\, and a drink.\n\nSales End: April 11\, 2024\n\nWorkout Session De
 tail:\n\nAgenda:\n\n2:00 PM - 2:30 PM: Information session/Interactive gam
 es and activities\n\n2:30 PM - 3:00 PM: Food Tasting\n\nEssentials to Brin
 g:\n\nParticipants are encouraged to bring their enthusiasm for healthy ea
 ting and a willingness to engage in interactive activities.\n\nParking Opt
 ion:\n\nParking is available at the venue\; details may vary\, please chec
 k with the organizer or venue for specifics.\n\n\n\n\n\n\n\n\n\n\n\n\n\n
ATTACH;FMTTYPE=image/jpeg:https://breatheatlanta.us/wp-content/uploads/202
 4/03/https___cdn.evbuc_.com_images_707390389_1377620498323_1_original.jpeg
CATEGORIES:Wellness Events
LOCATION:Healthy Eating Workshops\, 352 University Avenue Southwest Atlanta
 \, GA 30310 United States\, GA \, United States\, 30310 \, GA\, United Sta
 tes
X-APPLE-STRUCTURED-LOCATION;VALUE=URI;X-ADDRESS=352 University Avenue South
 west Atlanta\, GA 30310 United States\, GA \, United States\, 30310 \, GA\
 , United States;X-APPLE-RADIUS=100;X-TITLE=Healthy Eating Workshops:geo:0,
 0
END:VEVENT
BEGIN:VTIMEZONE
TZID:America/New_York
X-LIC-LOCATION:America/New_York
BEGIN:DAYLIGHT
DTSTART:20240310T030000
TZOFFSETFROM:-0500
TZOFFSETTO:-0400
TZNAME:EDT
END:DAYLIGHT
END:VTIMEZONE
END:VCALENDAR