BEGIN:VCALENDAR
VERSION:2.0
PRODID:-//wp-events-plugin.com//7.2.3.1//EN
TZID:America/New_York
X-WR-TIMEZONE:America/New_York
BEGIN:VEVENT
UID:610@breatheatlanta.us
DTSTART;TZID=America/New_York:20241102T180000
DTEND;TZID=America/New_York:20241102T203000
DTSTAMP:20241013T095500Z
URL:https://breatheatlanta.us/events/healthy-plant-based-fare-cooking-clas
 s-by-cozymeal/
SUMMARY:Healthy Plant-Based Fare - Cooking Class by Cozymeal™
DESCRIPTION:Join Cozymeal™ for an enriching culinary experience with the 
 Healthy Plant-Based Fare cooking class\, led by Chef Megan. This intimate 
 2.5-hour session offers participants the opportunity to learn the art of c
 reating delicious\, plant-based dishes while enjoying a delightful 4-cours
 e meal prepared with fresh\, wholesome ingredients.\n\nChef Megan will gui
 de attendees through a hands-on cooking journey\, where they will explore 
 innovative techniques for crafting flavorful\, nutritious meals. Perfect f
 or those looking to expand their culinary repertoire or embrace a healthie
 r lifestyle\, this class ensures that participants not only enhance their 
 cooking skills but also deepen their understanding of plant-based cuisine.
 \n\nBeyond the class itself\, Cozymeal™ provides a variety of exceptiona
 l culinary experiences\, including team-building activities\, food tours\,
  and private chef services in over 70 cities across the U.S. and Canada. E
 ach event is thoughtfully curated by experienced chefs and guides\, ensuri
 ng a unique\, memorable experience that fosters creativity and connection.
 \n\nFor additional details\, dates\, and to book your spot\, visit the Hea
 lthy Plant-Based Fare&lt\;/\n\nGET TICKETS\n\nem&gt\; page on Cozymeal™.
  Let us take care of the rest while you savor the joy of culinary explorat
 ion!
ATTACH;FMTTYPE=image/jpeg:https://breatheatlanta.us/wp-content/uploads/202
 4/10/Healthy-Plant.jpeg
CATEGORIES:Food &amp; Drink Events
LOCATION:Location provided after booking\, Atlanta\, Atlanta\, GA\, 30328 \
 , GA\, United States
X-APPLE-STRUCTURED-LOCATION;VALUE=URI;X-ADDRESS=Atlanta\, Atlanta\, GA\, 30
 328 \, GA\, United States;X-APPLE-RADIUS=100;X-TITLE=Location provided aft
 er booking:geo:0,0
END:VEVENT
BEGIN:VTIMEZONE
TZID:America/New_York
X-LIC-LOCATION:America/New_York
BEGIN:DAYLIGHT
DTSTART:20240310T030000
TZOFFSETFROM:-0500
TZOFFSETTO:-0400
TZNAME:EDT
END:DAYLIGHT
END:VTIMEZONE
END:VCALENDAR