BEGIN:VCALENDAR
VERSION:2.0
PRODID:-//wp-events-plugin.com//7.2.3.1//EN
TZID:America/New_York
X-WR-TIMEZONE:America/New_York
BEGIN:VEVENT
UID:753@breatheatlanta.us
DTSTART;TZID=America/New_York:20250215T100000
DTEND;TZID=America/New_York:20250215T110000
DTSTAMP:20250201T120119Z
URL:https://breatheatlanta.us/events/heart-opening-yoga-class-a-celebratio
 n-of-love-self-care/
SUMMARY:Heart Opening Yoga Class – A Celebration of Love & Self-Care
DESCRIPTION:Step into a space of love\, connection\, and renewal this Valen
 tine’s season with a Heart Opening Yoga Flow on February 15th at 10 AM. 
 Whether celebrating Valentine’s Day\, Galentine’s Day\, or the gift of
  self-love\, this class offers a beautiful way to nurture the mind\, body\
 , and heart through mindful movement and breathwork.\nA Gentle Yet Empower
 ing Practice\nThis heart-centered yoga session is designed to:\n❤️ Rel
 ease tension and open the heart through deep\, intentional poses\n🧘 Enc
 ourage gratitude and emotional balance\n✨ Promote physical and emotional
  healing through mindful movement\n\nAll levels are welcome—whether you'
 re a seasoned yogi or new to the practice\, this flow is accessible and ad
 aptable to your needs. Simply bring your yoga mat\, an open heart\, and a 
 willingness to embrace self-care.\nSpecial Offer!\n💖 Use code MLKLOVE a
 t checkout to save $5 when you register by Monday\, January 20th\, at 11:5
 9 PM EST.\nFrequently Asked Questions\n🔹 Who can attend this class? Ope
 n to all levels\, including beginners.\n🔹 Do I need to bring my own yog
 a mat? Yes\, please bring your mat.\n🔹 What should I wear? Comfortable\
 , breathable clothing for movement.\n🔹 Is there a fee to attend? Yes\, 
 registration is required.\n🔹 How do I register? Sign up online to secur
 e your spot.\n🔹 Will props be provided? Limited props may be available\
 , but bringing your own is encouraged.\n🔹 Can I bring a friend? Absolut
 ely—friends\, partners\, and solo participants are all welcome!\n🔹 Wh
 at time should I arrive? Plan to arrive at least 10 minutes early to settl
 e in.\n🔹 What style of yoga is this class? A slow\, heart-opening flow 
 with breathwork and meditation.\n🔹 What if I’m not flexible or new to
  yoga? No worries! This class is designed to be accessible to all.\n🔹 W
 ill there be any meditation or breathwork? Yes\, to enhance relaxation and
  mindfulness.\n🔹 Will the class be fast-paced? No\, the flow is gentle 
 and intentional.\n🔹 Is this a heated class? No\, it will be held in a c
 omfortable\, non-heated space.\nJoin Us &amp\; Open Your Heart\nCome as yo
 u are and experience the power of movement\, connection\, and self-love. W
 hether solo\, with a partner\, or with friends\, this class is the perfect
  way to celebrate love in all its forms.\n\n📍 Reserve your spot today a
 nd embrace the beauty of an open heart!\n\nGET TICKETS\n
ATTACH;FMTTYPE=image/jpeg:https://breatheatlanta.us/wp-content/uploads/202
 5/02/Heart-Opening-Yoga-Class.jpeg
CATEGORIES:Wellness Events
LOCATION:The Innerlight Community Center\, 5150 Stilesboro Road\, Kennesaw\
 , GA\, 30152\, GA\, United States
X-APPLE-STRUCTURED-LOCATION;VALUE=URI;X-ADDRESS=5150 Stilesboro Road\, Kenn
 esaw\, GA\, 30152\, GA\, United States;X-APPLE-RADIUS=100;X-TITLE=The Inne
 rlight Community Center:geo:0,0
END:VEVENT
BEGIN:VTIMEZONE
TZID:America/New_York
X-LIC-LOCATION:America/New_York
BEGIN:STANDARD
DTSTART:20241103T010000
TZOFFSETFROM:-0400
TZOFFSETTO:-0500
TZNAME:EST
END:STANDARD
END:VTIMEZONE
END:VCALENDAR