BEGIN:VCALENDAR
VERSION:2.0
PRODID:-//wp-events-plugin.com//7.2.3.1//EN
TZID:America/New_York
X-WR-TIMEZONE:America/New_York
BEGIN:VEVENT
UID:455@breatheatlanta.us
DTSTART;TZID=America/New_York:20240924T180000
DTEND;TZID=America/New_York:20240924T200000
DTSTAMP:20240914T183509Z
URL:https://breatheatlanta.us/events/heart-space-atlanta-integrating-all-p
 arts/
SUMMARY:Heart Space Atlanta: Integrating All Parts
DESCRIPTION:Heart Space Atlanta offers a nurturing healing circle specifica
 lly designed for Black individuals to relax\, connect\, and rejuvenate. Th
 is unique gathering focuses on fostering inner growth and self-understandi
 ng\, creating a safe and supportive environment to explore and heal the in
 ner child.\n\nDuring this session\, participants will engage in meaningful
  discussions and exercises that emphasize the importance of internal heali
 ng and self-discovery. Led by Shawn J. Moore and Ulester Douglas\, the eve
 nt invites attendees to delve into their emotional landscapes\, address pa
 st wounds\, and integrate all aspects of their being.\n\nThe gathering is 
 centered on the idea of working from within to create a harmonious balance
  between mind\, body\, and spirit. By addressing and nurturing the inner c
 hild\, attendees will learn to reconnect with their authentic selves and b
 uild a stronger foundation for personal growth and emotional resilience.\n
 \nHeart Space Atlanta is more than just a space\; it's a communal experien
 ce aimed at empowering participants to:\n\n 	Explore Inner Healing: Throug
 h guided practices and discussions\, individuals will uncover and address 
 deep-seated emotional patterns and traumas.\n 	Reconnect with the Inner Ch
 ild: Engage in activities designed to heal and nurture the parts of onesel
 f that may have been neglected or hurt.\n 	Build Community: Share experien
 ces and support one another in a safe\, inclusive\, and empathetic environ
 ment.\n 	Foster Personal Growth: Develop tools and insights that promote o
 verall well-being and self-acceptance.\n\nThis session promises a profound
  opportunity for self-discovery and collective healing. Participants are e
 ncouraged to come with an open heart and a willingness to engage deeply wi
 th their own personal journey. Whether you are seeking emotional support\,
  personal insight\, or a sense of community\, Heart Space Atlanta is here 
 to guide and uplift.\n\nGET TICKETS\n
ATTACH;FMTTYPE=image/jpeg:https://breatheatlanta.us/wp-content/uploads/202
 4/09/Heart-Space-Atlanta-Integrating-All-Parts.jpg
CATEGORIES:Mindfulness Events,Things To Do
LOCATION:Constellations - Shared Workspace\, 135 Auburn Avenue Northeast #S
 uite 201\, Atlanta\, Georgia\, 30303\, GA\, United States
X-APPLE-STRUCTURED-LOCATION;VALUE=URI;X-ADDRESS=135 Auburn Avenue Northeast
  #Suite 201\, Atlanta\, Georgia\, 30303\, GA\, United States;X-APPLE-RADIU
 S=100;X-TITLE=Constellations - Shared Workspace:geo:0,0
END:VEVENT
BEGIN:VTIMEZONE
TZID:America/New_York
X-LIC-LOCATION:America/New_York
BEGIN:DAYLIGHT
DTSTART:20240310T030000
TZOFFSETFROM:-0500
TZOFFSETTO:-0400
TZNAME:EDT
END:DAYLIGHT
END:VTIMEZONE
END:VCALENDAR