BEGIN:VCALENDAR
VERSION:2.0
PRODID:-//wp-events-plugin.com//7.2.3.1//EN
TZID:America/New_York
X-WR-TIMEZONE:America/New_York
BEGIN:VEVENT
UID:623@breatheatlanta.us
DTSTART;TZID=America/New_York:20241109T063000
DTEND;TZID=America/New_York:20241109T093000
DTSTAMP:20241014T095055Z
URL:https://breatheatlanta.us/events/high-vibrational-excursions-journey-t
 o-the-sun/
SUMMARY:High Vibrational Excursions: Journey to the Sun
DESCRIPTION:\n\n\n\n\n\n\n\n\n\n\n\n\n\n\n\n"High Vibrational Excursions pr
 esents 'Journey to the Sun\,' an uplifting and transformative experience d
 esigned to connect attendees with nature and each other. Participants will
  embark on a guided hike to the mountain’s summit\, where they will witn
 ess the awe-inspiring beauty of the sunrise. As the day unfolds\, the grou
 p will engage in a variety of holistic activities\, including sun gazing\,
  yoga\, and breathwork\, all aimed at promoting physical and mental well-b
 eing. A nourishing\, plant-based breakfast provided by a local vendor will
  fuel the body\, ensuring participants are energized for the day ahead. Th
 e event will also feature meaningful group discussions focused on personal
  empowerment and building a sense of community. This journey offers an opp
 ortunity for individuals to reconnect with themselves and gain inspiration
  from others in a serene\, supportive environment."\n\nGET TICKETS\n\n\n\n
 \n\n\n
ATTACH;FMTTYPE=image/jpeg:https://breatheatlanta.us/wp-content/uploads/202
 4/10/High-Vibrationa.jpeg
CATEGORIES:Wellness Events
LOCATION:Stone Mountain\, Stone Mountain \, Dekalb County\, Georgia\, 30087
  \, GA\, United States
X-APPLE-STRUCTURED-LOCATION;VALUE=URI;X-ADDRESS=Stone Mountain \, Dekalb Co
 unty\, Georgia\, 30087 \, GA\, United States;X-APPLE-RADIUS=100;X-TITLE=St
 one Mountain:geo:0,0
END:VEVENT
BEGIN:VTIMEZONE
TZID:America/New_York
X-LIC-LOCATION:America/New_York
BEGIN:STANDARD
DTSTART:20241103T010000
TZOFFSETFROM:-0400
TZOFFSETTO:-0500
TZNAME:EST
END:STANDARD
END:VTIMEZONE
END:VCALENDAR