BEGIN:VCALENDAR
VERSION:2.0
PRODID:-//wp-events-plugin.com//7.2.3.1//EN
TZID:America/New_York
X-WR-TIMEZONE:America/New_York
BEGIN:VEVENT
UID:523@breatheatlanta.us
DTSTART;TZID=America/New_York:20241109T110000
DTEND;TZID=America/New_York:20241109T160000
DTSTAMP:20240930T093422Z
URL:https://breatheatlanta.us/events/holy-smokes-bbq-festival/
SUMMARY:Holy Smokes BBQ Festival
DESCRIPTION:The Holy Smokes BBQ Festival is set to take place on November 9
 th at Riverfront Park in North Charleston\, bringing together over 50 of t
 he nation’s top pitmasters and chefs to celebrate the rich culture\, his
 tory\, and traditions of American barbecue.\n\nAgainst the scenic backdrop
  of the Cooper River\, attendees will enjoy live music while experiencing 
 a diverse array of barbecue styles crafted by some of the best in the busi
 ness. The festival offers a unique setup with four distinct BBQ villages: 
 Texas\, Traditional\, New School\, and Coastal\, each showcasing its own t
 ake on barbecue.\n\nA general admission ticket gives guests all-you-can-ea
 t access to these villages\, along with live musical entertainment. Bevera
 ges will be available for purchase\, but those who opt for VIP tickets wil
 l enjoy exclusive access to an all-inclusive VIP area\, featuring premium 
 food and complimentary drinks for a truly elevated festival experience.\n\
 nFor those needing accommodations\, the festival has partnered with Holida
 y Inn &amp\; Suites Charleston Airport &amp\; Convention Center\, offering
  an exclusive room block rate of $139 per night plus taxes and fees. The s
 pecial rate includes breakfast\, making it a convenient option for festiva
 lgoers.\n\nThis highly anticipated event is a must for barbecue lovers and
  food enthusiasts alike\, promising a day filled with smoky flavors\, grea
 t music\, and an authentic celebration of American BBQ heritage.\n\nGET TI
 CKETS\n
ATTACH;FMTTYPE=image/jpeg:https://breatheatlanta.us/wp-content/uploads/202
 4/09/Holy-Smokes-BBQ-Festival.jpg
CATEGORIES:Food &amp; Drink Events
LOCATION:Riverfront Park\, 1061 Everglades Avenue \, North Charleston\, Sou
 th Carolina\, 29405\, SC\, United States
X-APPLE-STRUCTURED-LOCATION;VALUE=URI;X-ADDRESS=1061 Everglades Avenue \, N
 orth Charleston\, South Carolina\, 29405\, SC\, United States;X-APPLE-RADI
 US=100;X-TITLE=Riverfront Park:geo:0,0
END:VEVENT
BEGIN:VTIMEZONE
TZID:America/New_York
X-LIC-LOCATION:America/New_York
BEGIN:STANDARD
DTSTART:20241103T010000
TZOFFSETFROM:-0400
TZOFFSETTO:-0500
TZNAME:EST
END:STANDARD
END:VTIMEZONE
END:VCALENDAR