BEGIN:VCALENDAR
VERSION:2.0
PRODID:-//wp-events-plugin.com//7.2.3.1//EN
TZID:America/New_York
X-WR-TIMEZONE:America/New_York
BEGIN:VEVENT
UID:560@breatheatlanta.us
DTSTART;TZID=America/New_York:20241027T130000
DTEND;TZID=America/New_York:20241027T170000
DTSTAMP:20241007T102838Z
URL:https://breatheatlanta.us/events/hoots-and-howls-dog-rescue-comedy-mus
 ic-non-profit-festival/
SUMMARY:HOOTS AND HOWLS Dog Rescue Comedy & Music Non Profit Festival
DESCRIPTION:Get ready for a fun-filled day of laughter\, music\, and giving
  back at the 6th Annual Rock for Rescues: Hoots &amp\; Howls on October 27
 th at Battery Park! This heartwarming event brings together the community 
 to support local dog rescues while enjoying a night of entertainment and f
 un.\n\nWhat to Expect:\n\n 	Live Comedy Show: Prepare for a hilarious perf
 ormance by the incredibly talented Lace Larrabee\, whose witty humor is su
 re to leave you laughing out loud.\n 	Music and Entertainment: The festiva
 l will also feature live music\, creating a lively\, upbeat atmosphere per
 fect for dancing or relaxing with friends—both human and furry!\n 	Suppo
 rt Dog Rescues: The best part? All proceeds go to supporting dog rescues a
 nd non-profit organizations that work tirelessly to find forever homes for
  dogs in need.\n\nWhy Attend? This festival is more than just a night of f
 un—it's an opportunity to help make a difference in the lives of rescue 
 animals. By attending\, you'll contribute to the mission of local rescues 
 and enjoy a memorable evening of laughter\, music\, and community spirit.\
 n\nGrab your friends\, bring your fur babies\, and join us for an unforget
 table night at Hoots &amp\; Howls where the comedy is hilarious\, the musi
 c is soulful\, and the cause is life-changing!\n\nGET TICKETS\n
ATTACH;FMTTYPE=image/jpeg:https://breatheatlanta.us/wp-content/uploads/202
 4/10/HOOTS-AND-HOWLS-Dog-Rescue-ComedyMusic-Non-Profit-Festival.jpg
CATEGORIES:Arts &amp; Performances,Things To Do
LOCATION:The Battery Atlanta\, 800 Battery Avenue Southeast Atlanta\, Atlan
 ta\, Georgia\, 30339\, GA\, United States
X-APPLE-STRUCTURED-LOCATION;VALUE=URI;X-ADDRESS=800 Battery Avenue Southeas
 t Atlanta\, Atlanta\, Georgia\, 30339\, GA\, United States;X-APPLE-RADIUS=
 100;X-TITLE=The Battery Atlanta:geo:0,0
END:VEVENT
BEGIN:VTIMEZONE
TZID:America/New_York
X-LIC-LOCATION:America/New_York
BEGIN:DAYLIGHT
DTSTART:20240310T030000
TZOFFSETFROM:-0500
TZOFFSETTO:-0400
TZNAME:EDT
END:DAYLIGHT
END:VTIMEZONE
END:VCALENDAR