BEGIN:VCALENDAR
VERSION:2.0
PRODID:-//wp-events-plugin.com//7.2.3.1//EN
TZID:America/New_York
X-WR-TIMEZONE:America/New_York
BEGIN:VEVENT
UID:214@breatheatlanta.us
DTSTART;TZID=America/New_York:20240414T110000
DTEND;TZID=America/New_York:20240414T130000
DTSTAMP:20240403T125130Z
URL:https://breatheatlanta.us/events/hops-flow-beer-yoga-and-brunch-at-arc
 hes-brewing/
SUMMARY:Hops & Flow Beer Yoga and Brunch at Arches Brewing!
DESCRIPTION:A delightful morning filled with beer yoga\, mouthwatering brun
 ch featuring Don Carne's culinary delights\, and all-around good vibes as 
 we celebrate and throw a party for Arches Brewing!\n\nEvent Information:\n
 \nEvent Name: Hops &amp\; Flow Beer Yoga and Brunch at Arches Brewing\n\nH
 ost: Hops &amp\; Flow | Yoga &amp\; Beer\n\nDate and Time: Sunday\, April 
 14 • 11:00 AM - 1:00 PM EDT\n\nLocation: Arches Brewing\, 3361 Dogwood D
 rive\, Hapeville\, GA 30354\, United States\n\nAbout this Event:\n\nA fun-
 filled morning of beer yoga\, delicious brunch featuring Don Carne's tacos
 \, and good vibes as we bid farewell to Arches Brewing's Hapeville taproom
  after 8 years. Your $16 ticket includes the yoga class and your first bev
 erage. Additionally\, indulge in a mouthwatering taco brunch for $10\, wit
 h vegetarian options available. Please arrive 15 minutes early to get sett
 led and enjoy your beverage. Let's celebrate and show our appreciation to 
 Arches Brewing for their years of brewing excellence!\n\nTicket Informatio
 n:\n\nPrice Breakdown:\n\nGeneral Admission: $16.00\n\nFee: $2.91\n\nSales
  Tax: $1.65\n\nSales End: April 14\, 2024\n\nRefund Policy: Contact the or
 ganizer for refund requests. Eventbrite's fee is nonrefundable.\n\nTicket 
 Purchase: Buy tickets in advance\; first come\, first served at the door. 
 No shows\, no refunds.\n\nGET TICKETS\n\nWorkout Session Detail:\n\nType: 
 Beer Yoga\n\nDuration: 60 minutes\n\nAdditional Activities: Brunch with Do
 n Carne's tacos available for $10 (vegetarian options available)\n\nEssent
 ial for Bring:\n\nYoga Mat\n\nTowel\n\nWater\n\n&nbsp\;
ATTACH;FMTTYPE=image/jpeg:https://breatheatlanta.us/wp-content/uploads/202
 4/04/https___cdn.evbuc_.com_images_724529869_555457531499_1_original.jpg
CATEGORIES:Wellness Events,Yoga Events
LOCATION:Arches Brewing\, 3361 Dogwood Drive Hapeville\, GA 30354 United St
 ates\, GA \, United States\, 30354 \, GA \, United States
X-APPLE-STRUCTURED-LOCATION;VALUE=URI;X-ADDRESS=3361 Dogwood Drive Hapevill
 e\, GA 30354 United States\, GA \, United States\, 30354 \, GA \, United S
 tates;X-APPLE-RADIUS=100;X-TITLE=Arches Brewing:geo:0,0
END:VEVENT
BEGIN:VTIMEZONE
TZID:America/New_York
X-LIC-LOCATION:America/New_York
BEGIN:DAYLIGHT
DTSTART:20240310T030000
TZOFFSETFROM:-0500
TZOFFSETTO:-0400
TZNAME:EDT
END:DAYLIGHT
END:VTIMEZONE
END:VCALENDAR