BEGIN:VCALENDAR
VERSION:2.0
PRODID:-//wp-events-plugin.com//7.2.3.1//EN
TZID:America/New_York
X-WR-TIMEZONE:America/New_York
BEGIN:VEVENT
UID:212@breatheatlanta.us
DTSTART;TZID=America/New_York:20240421T110000
DTEND;TZID=America/New_York:20240421T130000
DTSTAMP:20240403T121649Z
URL:https://breatheatlanta.us/events/hops-flow-beer-yoga-at-elsewhere-brew
 ing-greenhouse/
SUMMARY:Hops & Flow Beer Yoga at Elsewhere Brewing Greenhouse
DESCRIPTION:Prepare yourself to combine the joy of sipping and the serenity
  of stretching with Hops &amp\; Flow Beer Yoga\, taking place every third 
 Sunday at Elsewhere Brewing Greenhouse starting at 11 am!\n\nEvent Informa
 tion:\n\nEvent Name: Hops &amp\; Flow Beer Yoga at Elsewhere Brewing Green
 house\n\nHost: Hops &amp\; Flow | Yoga &amp\; Beer\n\nDate and Time: Sunda
 y\, April 21 • 11:00 AM - 1:00 PM EDT\n\nLocation: Elsewhere Brewing Gre
 enhouse Taproom - West Midtown\, 950 West Marietta Street Northwest #Suite
  A135\, Atlanta\, GA 30318\, United States\n\nAbout this Event:\n\nIndulge
  in the perfect fusion of yoga and beer at Elsewhere Brewing Greenhouse\, 
 offering a unique and enjoyable experience like no other. Led by our talen
 ted yoga instructor\, this all-levels yoga session will rejuvenate your bo
 dy and mind. Additionally\, savor delicious craft beers from Elsewhere Bre
 wing\, adding a delightful twist to your practice. Whether you're a season
 ed yogi or a beer enthusiast\, morning of relaxation\, laughter\, and good
  vibes. Ticket price includes yoga class and first beer. Please arrive 15 
 minutes early to get settled and enjoy your beverage.\n\nTicket Informatio
 n:\n\nPrice Breakdown:\n\nGeneral Admission: $16.00\n\nFees: $2.91\n\nSale
 s Tax: $1.68\n\nGET TICKETS\n\nRefund Policy: Contact the organizer for re
 fund requests. Eventbrite's fee is nonrefundable.\n\nTicket Purchase: Buy 
 tickets in advance\; first come\, first served at the door. No shows\, no 
 refunds.\n\nWorkout Session Detail:\n\nType: Beer Yoga\n\nDuration: 60 min
 utes\n\nAdditional Activities: Enjoy craft beers from Elsewhere Brewing du
 ring the session.\n\nEssential for Bring:\n\nYoga Mat\n\nTowel\n\nWater
ATTACH;FMTTYPE=image/jpeg:https://breatheatlanta.us/wp-content/uploads/202
 4/04/https___cdn.evbuc_.com_images_633081349_555457531499_1_original.jpg
CATEGORIES:Wellness Events,Yoga Events
LOCATION:Elsewhere Brewing Greenhouse Taproom - West Midtown\, 950 West Mar
 ietta Street Northwest #Suite A135 Atlanta\, GA 30318 United States\, GA \
 ,  United States\, 30318\, GA \, United States
X-APPLE-STRUCTURED-LOCATION;VALUE=URI;X-ADDRESS=950 West Marietta Street No
 rthwest #Suite A135 Atlanta\, GA 30318 United States\, GA \,  United State
 s\, 30318\, GA \, United States;X-APPLE-RADIUS=100;X-TITLE=Elsewhere Brewi
 ng Greenhouse Taproom - West Midtown:geo:0,0
END:VEVENT
BEGIN:VTIMEZONE
TZID:America/New_York
X-LIC-LOCATION:America/New_York
BEGIN:DAYLIGHT
DTSTART:20240310T030000
TZOFFSETFROM:-0500
TZOFFSETTO:-0400
TZNAME:EDT
END:DAYLIGHT
END:VTIMEZONE
END:VCALENDAR