BEGIN:VCALENDAR
VERSION:2.0
PRODID:-//wp-events-plugin.com//7.2.3.1//EN
TZID:America/New_York
X-WR-TIMEZONE:America/New_York
BEGIN:VEVENT
UID:433@breatheatlanta.us
DTSTART;TZID=America/New_York:20240922T120000
DTEND;TZID=America/New_York:20240922T140000
DTSTAMP:20240903T143305Z
URL:https://breatheatlanta.us/events/hops-flow-beer-yoga-at-three-taverns-
 imaginarium-2/
SUMMARY:Hops & Flow Beer Yoga at Three Taverns Imaginarium
DESCRIPTION:Experience a refreshing blend of relaxation and fun at Hops &am
 p\; Flow Beer Yoga\, held every 4th Sunday of the month at the Three Taver
 ns Imaginarium. This all-levels yoga class offers a unique way to unwind u
 nder the Imaginarium’s covered patio\, starting at 12pm sharp. For just 
 $16\, you'll enjoy a rejuvenating 60-minute yoga session\, followed by you
 r choice of a refreshing beverage to toast to your well-being.\n\nArrive e
 arly to grab your drink and settle in—don't forget to bring your mat\, a
  towel\, and some water to stay hydrated. With two hours of free parking w
 ith validation\, your only focus will be on finding your flow and enjoying
  the lively atmosphere.\n\nThis laid-back class is the perfect way to blen
 d wellness with a touch of indulgence. Plus\, your first beverage and tip 
 are included in the ticket price. But if you’re feeling extra grateful\,
  don’t hesitate to tip your hardworking beertenders who help make this e
 xperience possible. Come stretch\, sip\, and socialize at Three Taverns Im
 aginarium—where yoga and craft beer come together in perfect harmony.\n\
 nGET TICKETS\n
ATTACH;FMTTYPE=image/jpeg:https://breatheatlanta.us/wp-content/uploads/202
 4/09/Hops-Flow-Beer-Yoga-at-Three-Taverns-Imaginarium.jpg
CATEGORIES:Mindfulness Events,Things To Do,Wellness Events,Yoga Events
LOCATION:Three Taverns Imaginarium\, 777 Memorial Drive Southeast #Suite B1
 03\, Atlanta\, Georgia\, 30316\, GA\, United States
X-APPLE-STRUCTURED-LOCATION;VALUE=URI;X-ADDRESS=777 Memorial Drive Southeas
 t #Suite B103\, Atlanta\, Georgia\, 30316\, GA\, United States;X-APPLE-RAD
 IUS=100;X-TITLE=Three Taverns Imaginarium:geo:0,0
END:VEVENT
BEGIN:VTIMEZONE
TZID:America/New_York
X-LIC-LOCATION:America/New_York
BEGIN:DAYLIGHT
DTSTART:20240310T030000
TZOFFSETFROM:-0500
TZOFFSETTO:-0400
TZNAME:EDT
END:DAYLIGHT
END:VTIMEZONE
END:VCALENDAR