BEGIN:VCALENDAR
VERSION:2.0
PRODID:-//wp-events-plugin.com//7.2.3.1//EN
TZID:America/New_York
X-WR-TIMEZONE:America/New_York
BEGIN:VEVENT
UID:206@breatheatlanta.us
DTSTART;TZID=America/New_York:20240428T120000
DTEND;TZID=America/New_York:20240428T140000
DTSTAMP:20240404T100846Z
URL:https://breatheatlanta.us/events/hops-flow-beer-yoga-at-three-taverns-
 imaginarium/
SUMMARY:Hops & Flow Beer Yoga at Three Taverns Imaginarium
DESCRIPTION:Get your mats ready and your taste buds primed because Hops &am
 p\; Flow Beer Yoga is back\, happening every fourth Sunday at Three Tavern
 s Imaginarium! Join us for a unique blend of relaxation and refreshment as
  we combine the mindfulness of yoga with the enjoyment of craft beer. Whet
 her you're a seasoned yogi or just starting out\, this event is perfect fo
 r all levels. So come on down\, sip on some delicious brews\, and stretch 
 your way to bliss. Namaste and cheers!\n\nEvent Information:\n\nEvent Name
 : Hops &amp\; Flow Beer Yoga at Three Taverns Imaginarium\n\nHost: Hops &a
 mp\; Flow | Yoga &amp\; Beer\n\nDate and Time: Sunday\, April 28 • 12 - 
 2pm EDT\n\nLocation: Three Taverns Imaginarium\, 777 Memorial Drive Southe
 ast #Suite B103\, Atlanta\, GA 30316\, United States\n\nAbout this Event:
   every fourth Sunday at 12pm for Hops &amp\; Flow Beer Yoga under the co
 vered patio of Three Taverns Imaginarium. This all-levels yoga class offer
 s a perfect blend of yoga practice and the enjoyment of your first beverag
 e. The $16 ticket includes your yoga session and your first drink. Please 
 bring your own mat\, towel\, and water\, and arrive 15 minutes early to ge
 t settled and grab your beverage. The class duration is 60 minutes and wil
 l be held under the Imaginarium's covered patio area.\n\nWorkout Session D
 etail: This 60-minute all-levels yoga class begins at 12pm and includes yo
 ur first beverage. Participants are encouraged to bring their own yoga mat
 \, towel\, and water.\n\nEssential for Bringing: Please bring your own mat
 \, towel\, and water. Arrive 15 minutes early to get your beverage and get
  settled.\n\nParking Option: 2 hours of free parking with validation.\n\nT
 icket Price:\n\n1 x General Admission: $20.42\n\nSubtotal: $16.00\n\nFees:
  $2.91\n\nSales Tax: $1.51\n\nGET TICKETS\n\nRefund Policy: Contact the or
 ganizer to request a refund. Eventbrite's fee is nonrefundable. Please buy
  tickets in advance as it's first come first serve at the door. No shows\,
  no refunds. For further inquiries\, please reach out to the event organiz
 er.
ATTACH;FMTTYPE=image/jpeg:https://breatheatlanta.us/wp-content/uploads/202
 4/04/213121.jpg
CATEGORIES:Wellness Events,Yoga Events
LOCATION:Three Taverns Imaginarium\, 777 Memorial Drive Southeast #Suite B1
 03 \, Atlanta\, \, United States\, 30316 \, GA \, United States
X-APPLE-STRUCTURED-LOCATION;VALUE=URI;X-ADDRESS=777 Memorial Drive Southeas
 t #Suite B103 \, Atlanta\, \, United States\, 30316 \, GA \, United States
 ;X-APPLE-RADIUS=100;X-TITLE=Three Taverns Imaginarium:geo:0,0
END:VEVENT
BEGIN:VTIMEZONE
TZID:America/New_York
X-LIC-LOCATION:America/New_York
BEGIN:DAYLIGHT
DTSTART:20240310T030000
TZOFFSETFROM:-0500
TZOFFSETTO:-0400
TZNAME:EDT
END:DAYLIGHT
END:VTIMEZONE
END:VCALENDAR