BEGIN:VCALENDAR
VERSION:2.0
PRODID:-//wp-events-plugin.com//7.2.3.1//EN
TZID:America/New_York
X-WR-TIMEZONE:America/New_York
BEGIN:VEVENT
UID:211@breatheatlanta.us
DTSTART;TZID=America/New_York:20240420T140000
DTEND;TZID=America/New_York:20240420T160000
DTSTAMP:20240403T120141Z
URL:https://breatheatlanta.us/events/hops-flow-spirit-yoga-and-tarot-at-in
 dependent-distilling/
SUMMARY:Hops & Flow Spirit Yoga and Tarot at Independent Distilling!
DESCRIPTION:Rejuvenate your soul amidst the revitalizing energy of spring t
 hrough an invigorating yoga class intertwined with an enlightening and emp
 owering tarot session\, culminating in delightful cocktails to uplift your
  spirits!\n\nEvent Information:\n\nEvent Name: Hops &amp\; Flow Spirit Yog
 a and Tarot at Independent Distilling\n\nHost: Hops &amp\; Flow | Yoga &am
 p\; Beer\n\nDate and Time: Saturday\, April 20 • 2:00 - 4:00 PM EDT\n\nL
 ocation: Independent Distilling Company\, 547 East College Avenue\, Decatu
 r\, GA 30030\, United States\n\nTicket Price: $25 (Includes yoga class and
  first cocktail\; Tarot session available at $10 for 10 minutes)\n\nAbout 
 this Event: Renew your spirit with the fresh energy of spring through an e
 nergetic yoga class followed by an insightful tarot session at Independent
  Distilling in Decatur. Enjoy a 60-minute yoga class\, followed by mixolog
 y guidance from expert mixologists to craft a cocktail included with your 
 ticket. Tarot sessions by Nastassia available after yoga for guidance. Bri
 ng your yoga mat\; some props provided. Come early to secure your spot and
  settle in. Drink beer\, do yoga\, and have fun!\n\nTicket Information:\n\
 nPrice: $25 (Includes yoga class and first cocktail\; Tarot session availa
 ble at $10 for 10 minutes)\n\nRefund Policy: Contact the organizer for ref
 und requests. Eventbrite's fee is nonrefundable.\n\nTicket Purchase: Buy t
 ickets in advance\; first come\, first served at the door. No shows\, no r
 efunds.\n\nGET TICKETS\n\nWorkout Session Detail:\n\nType: Yoga\n\nDuratio
 n: 60 minutes\n\nAdditional Activities: Tarot session available after yoga
  ($10 for 10 minutes)\n\nEssential for Bring:\n\nYoga Mat: Bring your own\
 ; some props provided.\n\nAdditional Notes:\n\nPlease arrive 15 minutes ea
 rly to check in and get settled.\n\nYour first beverage is included in the
  ticket price\, including tip. Feel free to tip your bartenders additional
 ly.\n\nCome prepared to enjoy yoga\, tarot\, and mixology in a lively atmo
 sphere.
ATTACH;FMTTYPE=image/jpeg:https://breatheatlanta.us/wp-content/uploads/202
 4/04/https___cdn.evbuc_.com_images_731571069_555457531499_1_original.jpg
CATEGORIES:Wellness Events,Yoga Events
LOCATION:Independent Distilling Company\, 547 East College Avenue Decatur\,
  GA 30030 United States\, GA \, United States\, 30030 \, GA \, United Stat
 es
X-APPLE-STRUCTURED-LOCATION;VALUE=URI;X-ADDRESS=547 East College Avenue Dec
 atur\, GA 30030 United States\, GA \, United States\, 30030 \, GA \, Unite
 d States;X-APPLE-RADIUS=100;X-TITLE=Independent Distilling Company:geo:0,0
END:VEVENT
BEGIN:VTIMEZONE
TZID:America/New_York
X-LIC-LOCATION:America/New_York
BEGIN:DAYLIGHT
DTSTART:20240310T030000
TZOFFSETFROM:-0500
TZOFFSETTO:-0400
TZNAME:EDT
END:DAYLIGHT
END:VTIMEZONE
END:VCALENDAR