BEGIN:VCALENDAR
VERSION:2.0
PRODID:-//wp-events-plugin.com//7.2.3.1//EN
TZID:America/New_York
X-WR-TIMEZONE:America/New_York
BEGIN:VEVENT
UID:674@breatheatlanta.us
DTSTART;TZID=America/New_York:20241026T093000
DTEND;TZID=America/New_York:20241026T103000
DTSTAMP:20241018T114653Z
URL:https://breatheatlanta.us/events/hot-pilates-2/
SUMMARY:Hot Pilates
DESCRIPTION:Join the vibrant community at Creatives Rental Space for an inv
 igorating Hot Pilates workout session! Participants can look forward to an
  energizing experience designed to help them break a sweat and feel the bu
 rn. This class welcomes individuals of all fitness levels\, from beginners
  looking to learn the fundamentals to seasoned pros aiming to enhance thei
 r practice.\n\nLed by experienced instructors\, attendees will be guided t
 hrough a series of Pilates exercises specifically crafted to strengthen th
 e core\, enhance flexibility\, and elevate overall fitness. The session wi
 ll be set to a carefully curated playlist that keeps the energy high and m
 otivation strong.\n\nThis is an excellent opportunity for participants to 
 sculpt their bodies and energize their minds in a supportive environment. 
 Attendees are encouraged to bring their own yoga mats and towels\, along w
 ith plenty of water to stay hydrated throughout the workout.\n\nPlease not
 e that this event will involve photography\, audio\, and video recording. 
 By entering the premises\, participants consent to the use of these record
 ings\, which may be published or exhibited.\n\nDon’t miss this chance to
  work up a sweat and connect with fellow fitness enthusiasts—grab your m
 at and water bottle\, and get ready for a transformative workout experienc
 e at Hot Pilates\n\nGET TICKETS\n
ATTACH;FMTTYPE=image/jpeg:https://breatheatlanta.us/wp-content/uploads/202
 4/10/Hot-Pilates.jpg
CATEGORIES:Things To Do
LOCATION:Creatives Rental Space\, 1483 Chattahoochee Avenue Northwest #Suit
 e 110\, Atlanta\, Georgia\, 30318 \,  GA\, United States
X-APPLE-STRUCTURED-LOCATION;VALUE=URI;X-ADDRESS=1483 Chattahoochee Avenue N
 orthwest #Suite 110\, Atlanta\, Georgia\, 30318 \,  GA\, United States;X-A
 PPLE-RADIUS=100;X-TITLE=Creatives Rental Space:geo:0,0
END:VEVENT
BEGIN:VTIMEZONE
TZID:America/New_York
X-LIC-LOCATION:America/New_York
BEGIN:DAYLIGHT
DTSTART:20240310T030000
TZOFFSETFROM:-0500
TZOFFSETTO:-0400
TZNAME:EDT
END:DAYLIGHT
END:VTIMEZONE
END:VCALENDAR