BEGIN:VCALENDAR
VERSION:2.0
PRODID:-//wp-events-plugin.com//7.2.3.1//EN
TZID:America/New_York
X-WR-TIMEZONE:America/New_York
BEGIN:VEVENT
UID:289@breatheatlanta.us
DTSTART;TZID=America/New_York:20240601T094500
DTEND;TZID=America/New_York:20240601T110000
DTSTAMP:20240525T131221Z
URL:https://breatheatlanta.us/events/hot-pilates/
SUMMARY:Hot Pilates
DESCRIPTION:Prepare to sweat and sculpt those muscles at Hot Pilates\, wher
 e an intense workout will leave you feeling stronger and more energized th
 an ever!\nEvent Details\nDate and Location: Join us at Creatives Rental Sp
 ace for a sizzling Pilates session designed to elevate your fitness routin
 e.\n\nInclusive Fitness: This class caters to all fitness levels\, from be
 ginners to seasoned pros. Everyone is welcome to join and experience the b
 enefits of Hot Pilates.\n\nExpert Guidance: Our experienced instructors wi
 ll lead you through a series of Pilates exercises aimed at strengthening y
 our core\, enhancing flexibility\, and boosting overall fitness\, all set 
 to a curated mix of motivational music.\n\nEssential Gear: Don't forget to
  bring your mat and water bottle\, as you'll definitely be working up a sw
 eat!\nWhy Join?\nFull-Body Workout: Hot Pilates is a comprehensive workout
  designed to tone and sculpt your body\, targeting key muscle groups for m
 aximum impact.\n\nMental and Physical Benefits: Not only will you see phys
 ical improvements\, but you'll also leave feeling mentally rejuvenated and
  energized.\n\nFun and Engaging Atmosphere: The lively atmosphere and expe
 rt instruction ensure that you have a fun and engaging workout experience.
 \n\nDon't miss this opportunity to challenge yourself\, improve your fitne
 ss\, and have fun doing it. Grab your gear\, join us at Creatives Rental S
 pace\, and let's get ready to sweat it out together!\n\nGET TICKETS\n
ATTACH;FMTTYPE=image/jpeg:https://breatheatlanta.us/wp-content/uploads/202
 4/05/Hot-Pilates.jpg
LOCATION:Creatives Rental Space\, 1483 Chattahoochee Avenue Northwest #Suit
 e 110 \, Atlanta\, Georgia\, 30318\, GA\, United States
X-APPLE-STRUCTURED-LOCATION;VALUE=URI;X-ADDRESS=1483 Chattahoochee Avenue N
 orthwest #Suite 110 \, Atlanta\, Georgia\, 30318\, GA\, United States;X-AP
 PLE-RADIUS=100;X-TITLE=Creatives Rental Space:geo:0,0
END:VEVENT
BEGIN:VTIMEZONE
TZID:America/New_York
X-LIC-LOCATION:America/New_York
BEGIN:DAYLIGHT
DTSTART:20240310T030000
TZOFFSETFROM:-0500
TZOFFSETTO:-0400
TZNAME:EDT
END:DAYLIGHT
END:VTIMEZONE
END:VCALENDAR