BEGIN:VCALENDAR
VERSION:2.0
PRODID:-//wp-events-plugin.com//7.2.3.1//EN
TZID:America/New_York
X-WR-TIMEZONE:America/New_York
BEGIN:VEVENT
UID:726@breatheatlanta.us
DTSTART;TZID=America/New_York:20241117T120000
DTEND;TZID=America/New_York:20241117T200000
DTSTAMP:20241025T153512Z
URL:https://breatheatlanta.us/events/hot-sauce-fest-atl-2024/
SUMMARY:Hot Sauce Fest ATL 2024
DESCRIPTION:Hot Sauce Fest ATL 2024 is set to return for its highly anticip
 ated second annual event\, promising to be bigger\, better\, and spicier t
 han ever before. This year\, the festival will take place at Snackbox Stud
 ios\, conveniently located across from Krog Street Market and just off the
  Atlanta Beltline.\n\nAttendees can look forward to an exciting lineup fea
 turing numerous sauce vendors showcasing their fiery creations\, along wit
 h live music and entertainment that will keep the atmosphere lively throug
 hout the day. The festival will also host thrilling competitions and gener
 ous giveaways\, adding to the excitement of the event.\n\nOne of the highl
 ights of the Hot Sauce Fest ATL is the chance for participants to vote for
  their favorite hot sauces\, culminating in the prestigious Top Sauce Boss
  Award. This award recognizes the best of the best\, making the voting pro
 cess an engaging experience for all attendees.\n\nWith a vibrant atmospher
 e filled with heat\, flavor\, and community spirit\, Hot Sauce Fest ATL 20
 24 promises to be an unforgettable celebration for spice enthusiasts and f
 ood lovers alike. Whether you’re there to sample a variety of sauces\, e
 njoy live entertainment\, or join in the festivities\, this event is sure 
 to ignite your taste buds and leave you craving more.\n\nGET TICKETS\n
ATTACH;FMTTYPE=image/jpeg:https://breatheatlanta.us/wp-content/uploads/202
 4/10/Screenshot-2024-10-25-175600.png
CATEGORIES:Food &amp; Drink Events,Things To Do
LOCATION:Snackbox Studios\, 135 Krog St NE\, Atlanta\, Georgia\, 30307\,  G
 A\, United States
X-APPLE-STRUCTURED-LOCATION;VALUE=URI;X-ADDRESS=135 Krog St NE\, Atlanta\, 
 Georgia\, 30307\,  GA\, United States;X-APPLE-RADIUS=100;X-TITLE=Snackbox 
 Studios:geo:0,0
END:VEVENT
BEGIN:VTIMEZONE
TZID:America/New_York
X-LIC-LOCATION:America/New_York
BEGIN:STANDARD
DTSTART:20241103T010000
TZOFFSETFROM:-0400
TZOFFSETTO:-0500
TZNAME:EST
END:STANDARD
END:VTIMEZONE
END:VCALENDAR