BEGIN:VCALENDAR
VERSION:2.0
PRODID:-//wp-events-plugin.com//7.2.3.1//EN
TZID:America/New_York
X-WR-TIMEZONE:America/New_York
BEGIN:VEVENT
UID:485@breatheatlanta.us
DTSTART;TZID=America/New_York:20241014T083000
DTEND;TZID=America/New_York:20241015T160000
DTSTAMP:20240925T100216Z
URL:https://breatheatlanta.us/events/hot-stone-massage-class-12-ce-hours-o
 ctober-14-15-2024/
SUMMARY:Hot Stone Massage Class – 12 CE Hours (October 14-15\, 2024)
DESCRIPTION:Massage therapists and students are invited to participate in a
  two-day Hot Stone Massage Class that provides 12 live\, hands-on Continui
 ng Education (CE) hours. Approved by the NCBTMB (National Certification Bo
 ard for Therapeutic Massage and Bodywork) and the Georgia Board of Massage
  Therapy\, this course is designed to enhance massage skills and elevate c
 lient experiences through the integration of hot stone therapy.\nRegistrat
 ion:\n\n 	A deposit secures your seat\, with the balance due before class 
 begins.\n 	Full payment options are also available.\n 	Eligibility: Open t
 o licensed massage therapists and those currently enrolled in massage scho
 ol.\n\nCourse Overview:\nThis hands-on training will focus on using heated
  stones to complement traditional massage techniques\, enhancing relaxatio
 n and therapeutic benefits for clients. Participants will be guided on the
  safe and effective application of hot stone massage\, ensuring both pract
 itioner and client safety throughout the session.\nCourse Highlights:\n\n 
 	12 CE Hours: Earn 12 live\, hands-on continuing education hours.\n 	Certi
 fication: Approved by NCBTMB and GA Board of Massage Therapy.\n 	Practical
  Skills: Master the complete hot stone massage protocol.\n\nLearning Objec
 tives:\n\n 	Hot Stone Massage Protocol: Learn the step-by-step process of 
 performing hot stone massage.\n 	Client Safety: Understand essential safet
 y practices for both practitioners and clients.\n 	Add-On Services: Explor
 e ways to market hot stone therapy as a premium add-on service.\n 	Intake 
 and Consultation: Learn the art of conducting thorough client interviews a
 nd intake procedures.\n 	Sanitation: Participate in disinfection and sanit
 ation protocols to maintain the highest standards of hygiene.\n\nThis work
 shop is ideal for those looking to enhance their massage practice by offer
 ing a service that combines deep relaxation with therapeutic benefits.\n\n
 Don’t miss this opportunity to gain valuable CE hours and refine your ma
 ssage therapy skills!\n\nGET TICKETS\n
ATTACH;FMTTYPE=image/jpeg:https://breatheatlanta.us/wp-content/uploads/202
 4/09/Hot-Stone-Massage-Class-12-CE-Hours.jpg
CATEGORIES:Wellness Events
LOCATION:Private Venue\, Private Venue Mableton\, Atlanta\, Georgia\, 30126
 \, GA\, United States
X-APPLE-STRUCTURED-LOCATION;VALUE=URI;X-ADDRESS=Private Venue Mableton\, At
 lanta\, Georgia\, 30126\, GA\, United States;X-APPLE-RADIUS=100;X-TITLE=Pr
 ivate Venue:geo:0,0
END:VEVENT
BEGIN:VTIMEZONE
TZID:America/New_York
X-LIC-LOCATION:America/New_York
BEGIN:DAYLIGHT
DTSTART:20240310T030000
TZOFFSETFROM:-0500
TZOFFSETTO:-0400
TZNAME:EDT
END:DAYLIGHT
END:VTIMEZONE
END:VCALENDAR