BEGIN:VCALENDAR
VERSION:2.0
PRODID:-//wp-events-plugin.com//7.2.3.1//EN
TZID:America/New_York
X-WR-TIMEZONE:America/New_York
BEGIN:VEVENT
UID:767@breatheatlanta.us
DTSTART;TZID=America/New_York:20250213T173000
DTEND;TZID=America/New_York:20250213T183000
DTSTAMP:20250204T192043Z
URL:https://breatheatlanta.us/events/hot-yoga/
SUMMARY:Hot Yoga
DESCRIPTION:\n\n\n\n\nJoin us for an invigorating Hot Yoga session at Creat
 ives Rental Space\, where participants of all skill levels are invited to 
 experience the benefits of this dynamic practice. Whether you're new to yo
 ga or an experienced practitioner\, this class is designed to help you imp
 rove flexibility\, build strength\, and promote overall fitness.\n\nGuided
  by expert instructors\, the class will take you through a series of yoga 
 poses tailored to enhance your physical and mental well-being. The warm en
 vironment encourages deep stretching and relaxation\, helping to detoxify 
 your body and calm your mind.\n\nThe atmosphere is supportive\, inclusive\
 , and empowering—designed to make everyone feel safe as they explore the
 ir physical and mental capabilities. It’s an opportunity to release tens
 ion\, rejuvenate your energy\, and find balance in both body and mind.\n\n
 Don’t forget to bring your yoga mat and towels\, and remember to stay hy
 drated with your own water bottle. Come prepared to sweat\, stretch\, and 
 leave feeling revitalized!\n\nPlease note: By attending the event\, you co
 nsent to photography\, audio\, and video recording\, which may be used for
  promotional purposes.\n\nGET TICKETS\n\n\n\n\n
ATTACH;FMTTYPE=image/jpeg:https://breatheatlanta.us/wp-content/uploads/202
 5/02/Hot-Yoga.jpeg
CATEGORIES:Yoga Events
LOCATION:Creatives Rental Space\, 1483 Chattahoochee Avenue Northwest #Suit
 e 110 \, Atlanta\, Georgia\, 30318\, GA\, United States
X-APPLE-STRUCTURED-LOCATION;VALUE=URI;X-ADDRESS=1483 Chattahoochee Avenue N
 orthwest #Suite 110 \, Atlanta\, Georgia\, 30318\, GA\, United States;X-AP
 PLE-RADIUS=100;X-TITLE=Creatives Rental Space:geo:0,0
END:VEVENT
BEGIN:VTIMEZONE
TZID:America/New_York
X-LIC-LOCATION:America/New_York
BEGIN:STANDARD
DTSTART:20241103T010000
TZOFFSETFROM:-0400
TZOFFSETTO:-0500
TZNAME:EST
END:STANDARD
END:VTIMEZONE
END:VCALENDAR