BEGIN:VCALENDAR
VERSION:2.0
PRODID:-//wp-events-plugin.com//7.2.3.1//EN
TZID:America/New_York
X-WR-TIMEZONE:America/New_York
BEGIN:VEVENT
UID:536@breatheatlanta.us
DTSTART;TZID=America/New_York:20241021T190000
DTEND;TZID=America/New_York:20241021T203000
DTSTAMP:20241001T112250Z
URL:https://breatheatlanta.us/events/how-to-balance-pregnancy-relationship
 /
SUMMARY:How to Balance Pregnancy & Relationship
DESCRIPTION:Expecting a child brings joy\, but it also introduces new chall
 enges to any relationship. To help couples navigate this unique journey\, 
 an insightful event will be held in Atlanta\, focusing on strategies and p
 ractical advice for maintaining a strong and healthy relationship during p
 regnancy.\n\nDesigned for both first-time parents and those expanding thei
 r families\, this event will provide attendees with expert guidance on bal
 ancing the emotional and physical demands of pregnancy. Couples will also 
 have the chance to connect with others who are experiencing similar life c
 hanges\, allowing them to share stories and learn from one another.\n\nThi
 s is a valuable opportunity to strengthen your bond as a couple and prepar
 e for the upcoming changes in your relationship dynamics. Don't miss out o
 n this enriching experience that will help you and your partner face the f
 uture with confidence and unity. Join us in Atlanta and take the next step
  toward a stronger relationship during this exciting chapter of your lives
 !\n\nGET TICKETS\n
ATTACH;FMTTYPE=image/jpeg:https://breatheatlanta.us/wp-content/uploads/202
 4/10/How-to-Balance-Pregnancy-Relationship.jpg
CATEGORIES:Wellness Events
LOCATION:Atlanta\, Atlanta Atlanta\, Atlanta\, Georgia\, 30168\, GA\, Unite
 d States
X-APPLE-STRUCTURED-LOCATION;VALUE=URI;X-ADDRESS=Atlanta Atlanta\, Atlanta\,
  Georgia\, 30168\, GA\, United States;X-APPLE-RADIUS=100;X-TITLE=Atlanta:g
 eo:0,0
END:VEVENT
BEGIN:VTIMEZONE
TZID:America/New_York
X-LIC-LOCATION:America/New_York
BEGIN:DAYLIGHT
DTSTART:20240310T030000
TZOFFSETFROM:-0500
TZOFFSETTO:-0400
TZNAME:EDT
END:DAYLIGHT
END:VTIMEZONE
END:VCALENDAR