BEGIN:VCALENDAR
VERSION:2.0
PRODID:-//wp-events-plugin.com//7.2.3.1//EN
TZID:America/New_York
X-WR-TIMEZONE:America/New_York
BEGIN:VEVENT
UID:577@breatheatlanta.us
DTSTART;TZID=America/New_York:20241027T140000
DTEND;TZID=America/New_York:20241027T160000
DTSTAMP:20241009T122519Z
URL:https://breatheatlanta.us/events/how-to-heal-your-gut-holistically/
SUMMARY:HOW TO HEAL YOUR GUT HOLISTICALLY
DESCRIPTION:Join us for an enlightening in-person event focused on the cruc
 ial topic of gut health! This workshop\, titled How to Heal Your Gut Holis
 tically\, will guide participants through the holistic approaches necessar
 y for improving gut health and overall well-being. Led by the knowledgeabl
 e speaker Rae Mason\, attendees will receive practical tips and techniques
  for naturally supporting their digestive systems.\n\nThis event will expl
 ore the vital connection between gut health and various aspects of health\
 , including the immune system\, mood\, and energy levels. For many\, feeli
 ngs of sluggishness\, irritability\, and discomfort can often be traced ba
 ck to gut issues that demand attention. Ignoring these distress signals ca
 n lead to serious health complications\, such as autoimmune diseases and c
 hronic inflammation.\n\nThe Reboot: How to Heal Your Gut Holistically work
 shop\, organized by Sweet Tea Yoga and The Healthy Move\, takes a deep div
 e into understanding the root causes of common health symptoms. Under Rae 
 Mason's guidance\, participants will learn to tune into their bodies' sign
 als and apply effective healing strategies tailored to their unique needs.
 \nWhat You Will Learn:\n\n 	What is the Gut? Understand the role of the gu
 t in overall health.\n 	Importance of Gut Health: Discover how gut health 
 impacts various bodily functions.\n 	Barriers to Healing: Identify common 
 obstacles to gut healing.\n 	Top Strategies for Healing: Learn three actio
 nable strategies to begin your healing journey immediately.\n\nTransform Y
 our Health and Reclaim Your Life\nBy addressing the root causes of gut iss
 ues\, participants can look forward to numerous transformative outcomes\, 
 including:\n\n 	Reduced bloating\n 	Improved eating habits\n 	Enhanced sle
 ep quality\n 	Boosted mental health\n 	Increased confidence\n 	Better perf
 ormance in daily activities\n\nThis workshop also addresses specific sympt
 oms\, offering targeted strategies to tackle issues such as chronic stomac
 h discomfort\, weight fluctuations\, persistent skin problems\, and unrele
 nting sugar cravings.\n\nFor just $25\, attendees will gain access to this
  wealth of life-changing information.\nSpecial Offerings:\n\n 	Free Heal Y
 our Gut Workbook: Start your wellness journey by identifying gut issues an
 d creating sustainable habits.\n 	FREE Specialty Blend Gut Health Juice: C
 rafted by a detox specialist\, this juice will support your gut health.\n 
 	Complimentary Refreshments: Enjoy nourishing treats throughout the worksh
 op\, ensuring a holistic experience from start to finish.\n\nDon’t let e
 xhaustion and overwhelm dictate your life any longer. This workshop is an 
 investment in your health that promises to revitalize your well-being from
  the inside out. Each step of the journey will leave you feeling lighter\,
  clearer\, and more empowered.\n\nSecure your spot today and embark on the
  path to holistic gut healing!\n\nGET TICKETS\n
ATTACH;FMTTYPE=image/jpeg:https://breatheatlanta.us/wp-content/uploads/202
 4/10/HOW-TO-HEAL-YOUR-GUT-HOLISTICALLY.jpeg
CATEGORIES:Wellness Events
LOCATION:Sweet Tea Yoga\, 6000 Shakerag Hill #Suite 318 Peachtree City\, #S
 uite 318 Peachtree City\, California\, 30269\, CA\, United States
X-APPLE-STRUCTURED-LOCATION;VALUE=URI;X-ADDRESS=6000 Shakerag Hill #Suite 3
 18 Peachtree City\, #Suite 318 Peachtree City\, California\, 30269\, CA\, 
 United States;X-APPLE-RADIUS=100;X-TITLE=Sweet Tea Yoga:geo:0,0
END:VEVENT
BEGIN:VTIMEZONE
TZID:America/New_York
X-LIC-LOCATION:America/New_York
BEGIN:DAYLIGHT
DTSTART:20240310T030000
TZOFFSETFROM:-0500
TZOFFSETTO:-0400
TZNAME:EDT
END:DAYLIGHT
END:VTIMEZONE
END:VCALENDAR