BEGIN:VCALENDAR
VERSION:2.0
PRODID:-//wp-events-plugin.com//7.2.3.1//EN
TZID:America/New_York
X-WR-TIMEZONE:America/New_York
BEGIN:VEVENT
UID:230@breatheatlanta.us
DTSTART;TZID=America/New_York:20240428T150000
DTEND;TZID=America/New_York:20240428T180000
DTSTAMP:20240407T114615Z
URL:https://breatheatlanta.us/events/i-am-womens-wellness-day/
SUMMARY:'I AM" Women's Wellness Day
DESCRIPTION:\nUnwind\, Recharge\, and Shine: "I AM" Women's Wellness Day Aw
 aits!\nCalling all women! The Wellness Spot is thrilled to host the "I AM"
  Women's Wellness Day\, a transformative experience designed to celebrate 
 your inner strength and empower you on your journey to well-being.\nThis i
 s your day to prioritize self-care\, self-love\, and self-discovery. Indul
 ge in a variety of activities curated to nourish your mind\, body\, and sp
 irit:\n\n\n 	Sensual Yoga Flow: Connect with your body and awaken your sen
 ses in this unique yoga session designed to embrace self-acceptance and ce
 lebrate your femininity.\n 	Guided Meditation: Quiet your mind and find in
 ner peace with a guided meditation session. Learn powerful techniques to c
 ultivate tranquility and enhance your overall well-being.\n 	Wellness Spea
 ker Workshop: Gain valuable insights and practical tools from a renowned w
 ellness expert. This interactive workshop will equip you with strategies t
 o navigate life's challenges and cultivate a more balanced lifestyle.\n 	D
 electable Brunch: Nourish your body with a delicious and healthy brunch\, 
 savoring the company of like-minded women and sharing experiences in a sup
 portive environment.\n\nMore than just activities\, this event is a commun
 ity. Connect with other women who are passionate about self-care and well-
 being. Build meaningful connections\, share experiences\, and feel empower
 ed by the strength of a supportive sisterhood.\nLeave Feeling Rejuvenated 
 and Inspired:\n\n\n 	Rejuvenate Your Body: Step away from the daily grind 
 and indulge in activities designed to promote relaxation and restore your 
 inner balance.\n 	Embrace Your Inner Strength: This event is a celebration
  of womanhood. Connect with your inner power and discover the strength to 
 shine brightly in all aspects of your life.\n 	Ignite Your Inspiration: Le
 ave feeling motivated and equipped with the tools and knowledge to priorit
 ize your well-being and create a life filled with joy and fulfillment.\n\n
 Don't miss this opportunity to invest in yourself! Join the "I AM" Women's
  Wellness Day and embark on a transformative journey towards a healthier\,
  happier\, and more empowered you. The Wellness Spot awaits – a haven of
  self-care and a celebration of the remarkable women we all are.\n\n\n\nBU
 Y TICKETS\n
ATTACH;FMTTYPE=image/jpeg:https://breatheatlanta.us/wp-content/uploads/202
 4/04/https___cdn.evbuc_.com_images_725163029_79650442355_1_original.jpeg
CATEGORIES:Wellness Events
LOCATION:The Wellness Spot\, 3397 Main Street\, College Park\, Georgia\, 30
 337\, United States
X-APPLE-STRUCTURED-LOCATION;VALUE=URI;X-ADDRESS=3397 Main Street\, College 
 Park\, Georgia\, 30337\, United States;X-APPLE-RADIUS=100;X-TITLE=The Well
 ness Spot:geo:0,0
END:VEVENT
BEGIN:VTIMEZONE
TZID:America/New_York
X-LIC-LOCATION:America/New_York
BEGIN:DAYLIGHT
DTSTART:20240310T030000
TZOFFSETFROM:-0500
TZOFFSETTO:-0400
TZNAME:EDT
END:DAYLIGHT
END:VTIMEZONE
END:VCALENDAR