BEGIN:VCALENDAR
VERSION:2.0
PRODID:-//wp-events-plugin.com//7.2.3.1//EN
TZID:America/New_York
X-WR-TIMEZONE:America/New_York
BEGIN:VEVENT
UID:765@breatheatlanta.us
DTSTART;TZID=America/New_York:20250215T113000
DTEND;TZID=America/New_York:20250215T133000
DTSTAMP:20250204T190527Z
URL:https://breatheatlanta.us/events/i-love-your-mental/
SUMMARY:I Love Your Mental
DESCRIPTION:\n\n\n\n\nBeautifully Ill\, Inc. is a woman-owned and operated 
 organization that is in the process of transitioning into a 501(c)(3) nonp
 rofit. Founded by Kendra Eberhart\, who personally navigates the challenge
 s of Crohn’s disease\, fibromyalgia\, and mental health disabilities\, t
 he organization is dedicated to supporting women facing chronic illnesses 
 and mental health struggles.\n\nWomen often find their voices unheard in v
 arious aspects of life\, whether in the home\, workplace\, healthcare syst
 em\, or personal relationships. This lack of recognition not only leads to
  emotional and physical distress but also contributes to frequent misunder
 standings and misdiagnoses. The impact of these issues can be profound\, a
 ffecting both the quality of life and access to appropriate medical care.\
 n\nOne of the greatest challenges individuals with chronic illnesses and m
 ental health conditions encounter is the lack of adequate funding and supp
 ort. Beautifully Ill\, Inc. is committed to addressing this gap by providi
 ng essential resources\, advocacy\, and a strong community network that en
 sures women receive the care and recognition they deserve.\n\nWith the hel
 p of generous contributions and community engagement\, the organization ai
 ms to create sustainable solutions that uplift and empower those in need. 
 Every effort brings them closer to their goal of offering comprehensive as
 sistance and fostering a more inclusive and understanding environment for 
 women battling these conditions.\n\nYour support plays a crucial role in t
 his mission. Together\, we can create a future where every woman’s healt
 h—both mental and physical—is acknowledged\, respected\, and prioritiz
 ed. 💜\n\nGET TICKETS\n\n\n\n\n\n\n\n\n\n
ATTACH;FMTTYPE=image/jpeg:https://breatheatlanta.us/wp-content/uploads/202
 5/02/I-Love-Your-Mental.jpeg
CATEGORIES:Wellness Events
LOCATION:The Hive Buckhead\, 1845 Peachtree Road \, Northwest Atlanta\, GA\
 , 30309\, GA\, United States
X-APPLE-STRUCTURED-LOCATION;VALUE=URI;X-ADDRESS=1845 Peachtree Road \, Nort
 hwest Atlanta\, GA\, 30309\, GA\, United States;X-APPLE-RADIUS=100;X-TITLE
 =The Hive Buckhead:geo:0,0
END:VEVENT
BEGIN:VTIMEZONE
TZID:America/New_York
X-LIC-LOCATION:America/New_York
BEGIN:STANDARD
DTSTART:20241103T010000
TZOFFSETFROM:-0400
TZOFFSETTO:-0500
TZNAME:EST
END:STANDARD
END:VTIMEZONE
END:VCALENDAR