BEGIN:VCALENDAR
VERSION:2.0
PRODID:-//wp-events-plugin.com//7.2.3.1//EN
TZID:America/New_York
X-WR-TIMEZONE:America/New_York
BEGIN:VEVENT
UID:350@breatheatlanta.us
DTSTART;TZID=America/New_York:20240727T110000
DTEND;TZID=America/New_York:20240727T180000
DTSTAMP:20240709T102220Z
URL:https://breatheatlanta.us/events/ice-cream-atlanta-festival/
SUMMARY:ICE CREAM ATLANTA FESTIVAL
DESCRIPTION:\n\n\n\nExperience the ultimate celebration of summer sweetness
  at the Atlanta Ice Cream Festival! This exciting event promises a day fil
 led with everyone's favorite treat alongside a range of engaging activitie
 s promoting health and wellness. From sampling delicious ice cream flavors
  to exploring food and non-food vendors\, live music performances\, invigo
 rating fitness routines\, and wellness engagement activities\, there's som
 ething for everyone to enjoy.\n\n\n\n\n\n\n\n\n\n\n\nIndulge in a variety 
 of ice cream creations while also discovering tips and insights on maintai
 ning a balanced and healthy lifestyle. Whether you're a fitness enthusiast
 \, a foodie\, or simply looking to have a good time with family and friend
 s\, the Atlanta Ice Cream Festival offers a perfect blend of delicious tre
 ats and wholesome activities.\n\nDon't miss out on this opportunity to imm
 erse yourself in the joy of ice cream and the benefits of a healthy lifest
 yle. Join us at the Atlanta Ice Cream Festival and make memories that are 
 as sweet as your favorite dessert!\n\nGET TICKETS\n\n\n\n\n\n\n
ATTACH;FMTTYPE=image/jpeg:https://breatheatlanta.us/wp-content/uploads/202
 4/06/ICE-CREAM-ATLANTA-FESTIVAL.png
CATEGORIES:Food &amp; Drink Events,Things To Do
LOCATION:ICE CREAM ATLANTA FESTIVAL\, Piedmont Park at 10th Street \,  GA\,
   United States\, 30309\, GA\, United States
X-APPLE-STRUCTURED-LOCATION;VALUE=URI;X-ADDRESS=Piedmont Park at 10th Stree
 t \,  GA\,  United States\, 30309\, GA\, United States;X-APPLE-RADIUS=100;
 X-TITLE=ICE CREAM ATLANTA FESTIVAL:geo:0,0
END:VEVENT
BEGIN:VTIMEZONE
TZID:America/New_York
X-LIC-LOCATION:America/New_York
BEGIN:DAYLIGHT
DTSTART:20240310T030000
TZOFFSETFROM:-0500
TZOFFSETTO:-0400
TZNAME:EDT
END:DAYLIGHT
END:VTIMEZONE
END:VCALENDAR