BEGIN:VCALENDAR
VERSION:2.0
PRODID:-//wp-events-plugin.com//7.2.3.1//EN
TZID:America/New_York
X-WR-TIMEZONE:America/New_York
BEGIN:VEVENT
UID:652@breatheatlanta.us
DTSTART;TZID=America/New_York:20241025T150000
DTEND;TZID=America/New_York:20241027T110000
DTSTAMP:20241018T084055Z
URL:https://breatheatlanta.us/events/imanis-corporation-annual-womens-retr
 eat/
SUMMARY:Imani’s Corporation Annual Women’s Retreat
DESCRIPTION:Imani’s Corporation proudly presents its Annual Women’s Ret
 reat\, designed specifically for women who feel a divine calling to make a
  difference in the world. This retreat serves as a nurturing space for par
 ticipants to connect\, build relationships\, and foster collaboration with
  like-minded women who share a commitment to community impact.\n\nThe retr
 eat's primary focus is on spiritual alignment\, encouraging attendees to d
 iscover and embrace their unique purpose as guided by their faith in God. 
 This transformative experience promises to inspire personal growth\, deepe
 n connections\, and empower women to take action within their communities.
 \n\nPlease note that while registration for the retreat includes access to
  all activities and sessions\, accommodation costs are not included. Atten
 dees are encouraged to click the booking link provided below to reserve th
 eir hotel rooms at a special group rate.\n\nThis retreat is not just an ev
 ent\; it is an opportunity for women to recharge\, reflect\, and renew the
 ir spirits while engaging in meaningful discussions and activities. Join u
 s for this enriching experience\, and take a step closer to aligning your 
 life with your divine purpose.\n\nGET TICKETS\n
ATTACH;FMTTYPE=image/jpeg:https://breatheatlanta.us/wp-content/uploads/202
 4/10/Imanis-Corporation-Annual-Womens-Retreat.jpg
CATEGORIES:Retreats Events,Things To Do
LOCATION:Tru by Hilton Atlanta Airport College Park\, 2101 Convention Cente
 r Concourse #A College Park\, Atlanta\, Georgia\, 30337\, GA\, United Stat
 es
X-APPLE-STRUCTURED-LOCATION;VALUE=URI;X-ADDRESS=2101 Convention Center Conc
 ourse #A College Park\, Atlanta\, Georgia\, 30337\, GA\, United States;X-A
 PPLE-RADIUS=100;X-TITLE=Tru by Hilton Atlanta Airport College Park:geo:0,0
END:VEVENT
BEGIN:VTIMEZONE
TZID:America/New_York
X-LIC-LOCATION:America/New_York
BEGIN:DAYLIGHT
DTSTART:20240310T030000
TZOFFSETFROM:-0500
TZOFFSETTO:-0400
TZNAME:EDT
END:DAYLIGHT
END:VTIMEZONE
END:VCALENDAR