BEGIN:VCALENDAR
VERSION:2.0
PRODID:-//wp-events-plugin.com//7.2.3.1//EN
TZID:America/New_York
X-WR-TIMEZONE:America/New_York
BEGIN:VEVENT
UID:495@breatheatlanta.us
DTSTART;TZID=America/New_York:20241020T120000
DTEND;TZID=America/New_York:20241026T133000
DTSTAMP:20240925T143131Z
URL:https://breatheatlanta.us/events/immersive-yoga-soundbath-powered-by-t
 oasted-life-2/
SUMMARY:Immersive Yoga & Soundbath Powered by Toasted Life
DESCRIPTION:Imagine stepping into a space where wellness meets cutting-edge
  technology—an immersive room with a state-of-the-art sound system\, vib
 rant LED screens\, and a community of like-minded individuals. In collabor
 ation with Temple Nightclub\, Toasted Life is transforming the venue into 
 a 360-degree sensory yoga experience\, offering a dynamic blend of movemen
 t and sound to elevate both mind and body.\n\nEvent Overview: This unique 
 wellness event combines a yoga session with an immersive soundbath\, desig
 ned to provide an all-encompassing experience for relaxation and rejuvenat
 ion. The setting is more than just a yoga class—it's a full sensory jour
 ney. As you flow through guided yoga movements\, you'll be enveloped by so
 othing sounds\, creating a tranquil environment that invites you to deepen
  your connection with yourself.\n\nThe event is tailored for individuals s
 eeking not only physical exercise but also mental clarity and emotional ca
 lm. Whether you’re new to yoga or a seasoned practitioner\, this experie
 nce offers an opportunity to unwind in a vibrant\, energy-filled atmospher
 e.\n\nSoundbath Experience: The evening culminates in a transformative sou
 ndbath led by Selena Davant\, an expert in the art of sound healing. The s
 oundbath uses harmonic vibrations to guide participants into a meditative 
 state\, promoting deep relaxation\, mental clarity\, and an enhanced sense
  of well-being. It's an ideal way for busy professionals or anyone in need
  of a mental reset to take a meaningful pause from the fast pace of life.\
 n\nWhat to Expect:\n\n 	Immersive yoga experience in a high-tech\, 360-deg
 ree sensory environment\n 	A calming soundbath designed to promote deep re
 laxation and mental clarity\n 	A welcoming atmosphere filled with like-min
 ded people seeking wellness and connection\n 	A chance to unwind\, recharg
 e\, and elevate your well-being through movement and sound\n\nWhy Attend: 
 This event is perfect for anyone looking to combine physical activity with
  relaxation in a vibrant\, immersive setting. With expert instructors and 
 a visually stunning environment\, you'll leave feeling refreshed\, centere
 d\, and re-energized.\n\nDon't miss out on this opportunity to experience 
 yoga and sound healing in an entirely new way. This is more than just a wo
 rkout—it’s a journey into wellness that engages all your senses.\n\nCh
 eck out the preview photos for a glimpse into the transformed Temple Night
 club space\, and prepare to be transported into a realm of peace and rejuv
 enation.\n\nGET TICKETS\n
ATTACH;FMTTYPE=image/jpeg:https://breatheatlanta.us/wp-content/uploads/202
 4/09/Immersive-Yoga-Soundbath-Powered-by-Toasted-Life-1.jpg
CATEGORIES:Yoga Events
LOCATION:Temple Nightclub San Francisco\, 540 Howard Street\, San Francisco
 \, California\, 94710\, CA\, United States
X-APPLE-STRUCTURED-LOCATION;VALUE=URI;X-ADDRESS=540 Howard Street\, San Fra
 ncisco\, California\, 94710\, CA\, United States;X-APPLE-RADIUS=100;X-TITL
 E=Temple Nightclub San Francisco:geo:0,0
END:VEVENT
BEGIN:VTIMEZONE
TZID:America/New_York
X-LIC-LOCATION:America/New_York
BEGIN:DAYLIGHT
DTSTART:20240310T030000
TZOFFSETFROM:-0500
TZOFFSETTO:-0400
TZNAME:EDT
END:DAYLIGHT
END:VTIMEZONE
END:VCALENDAR