BEGIN:VCALENDAR
VERSION:2.0
PRODID:-//wp-events-plugin.com//7.2.3.1//EN
TZID:America/New_York
X-WR-TIMEZONE:America/New_York
BEGIN:VEVENT
UID:583@breatheatlanta.us
DTSTART;TZID=America/New_York:20241101T183000
DTEND;TZID=America/New_York:20241101T203000
DTSTAMP:20241009T141948Z
URL:https://breatheatlanta.us/events/in-person-class-the-art-of-french-pas
 try-atlanta/
SUMMARY:In-person class: The Art of French Pastry (Atlanta)
DESCRIPTION:Step into the enchanting world of French pastry with "The Art o
 f French Pastry" class in Atlanta\, where participants are whisked away to
  a culinary experience reminiscent of Le Cordon Bleu in Paris. This engagi
 ng\, hands-on class invites aspiring bakers to master the delicate art of 
 Choux pastry\, often regarded as challenging yet surprisingly approachable
 .\n\nGuided by a talented Pastry Chef Instructor\, attendees will enjoy a 
 detailed demonstration before embarking on their own journey to create the
  perfect Choux dough. Participants will learn the essential techniques of 
 piping\, baking\, and filling\, ultimately crafting delectable Eclairs and
  Cream Puffs. Additionally\, they will discover how to make rich vanilla c
 rème and luscious chocolate ganache\, elevating their pastries to gourmet
  standards. With these easy-to-follow recipes\, even those intimidated by 
 baking can confidently create a variety of pastries.\n\nNo prior baking ex
 perience is necessary\, as the class provides all the essential equipment 
 and ingredients\, which are readily available at local markets. The atmosp
 here is casual and designed to be both fun and educational\, making it ide
 al for seasoned cooking enthusiasts and first-time bakers alike. Participa
 nts are encouraged to engage fully or take a more observational approach\,
  even indulging in taste testing along the way.\n\nGuests are asked to arr
 ive 15 minutes early for parking and check-in\, particularly for larger gr
 oups. Throughout the class\, attendees will collaborate in groups\, sharin
 g equipment and ingredients. For those 21 and older\, bringing beer or win
 e is permitted to enhance the experience.\n\nTo maintain a safe and enrich
 ing environment\, children aged 14 to 17 must be accompanied by a parent o
 r guardian. Classes are primarily tailored for adults aged 21 and over.\n\
 nDietary restrictions accommodated include:\n\n 	Fish-free\n 	Vegetarian-f
 riendly\n 	Nut-free\n 	Shellfish-free\n\nThis delightful pastry class prom
 ises to be a memorable evening filled with creativity\, learning\, and\, o
 f course\, delicious treats!\n\nGET TICKETS\n
ATTACH;FMTTYPE=image/jpeg:https://breatheatlanta.us/wp-content/uploads/202
 4/10/In-person-class-The-Art-of-French-Pastry-Atlanta.jpeg
CATEGORIES:Food &amp; Drink Events
LOCATION:Howdy ATL biscuit cafe\, 753 Cherokee Avenue Southeast Atlanta\,\,
  Atlanta\, GA\, 30315\, United States
X-APPLE-STRUCTURED-LOCATION;VALUE=URI;X-ADDRESS=753 Cherokee Avenue Southea
 st Atlanta\,\, Atlanta\, GA\, 30315\, United States;X-APPLE-RADIUS=100;X-T
 ITLE=Howdy ATL biscuit cafe:geo:0,0
END:VEVENT
BEGIN:VTIMEZONE
TZID:America/New_York
X-LIC-LOCATION:America/New_York
BEGIN:DAYLIGHT
DTSTART:20240310T030000
TZOFFSETFROM:-0500
TZOFFSETTO:-0400
TZNAME:EDT
END:DAYLIGHT
END:VTIMEZONE
END:VCALENDAR