BEGIN:VCALENDAR
VERSION:2.0
PRODID:-//wp-events-plugin.com//7.2.3.1//EN
TZID:America/New_York
X-WR-TIMEZONE:America/New_York
BEGIN:VEVENT
UID:55@breatheatlanta.us
DTSTART;TZID=America/New_York:20240330T130000
DTEND;TZID=America/New_York:20240330T150000
DTSTAMP:20240322T103151Z
URL:https://breatheatlanta.us/events/in-person-remedies-for-womens-health-
 natural-wellness-series/
SUMMARY:IN PERSON - REMEDIES FOR WOMEN'S HEALTH - Natural Wellness Series
DESCRIPTION:\n\n\n\n\n\n\n\n\n\n\n\n\n\n\n\n\n\n\n\n\n\n\n\n\n🌟 Step int
 o a transformative experience with us as we invite you to our immersive WO
 MEN'S HEALTH class\, a pivotal segment of our esteemed Natural Wellness Se
 ries. 🌿✨ Mark your calendars for March 30\, 2024\, at 1:00 PM\, as we
  gather in person to embark on a journey towards holistic well-being and r
 ejuvenation.\n\nIn this empowering session\, delve into the depths of wome
 n's health and unlock the secrets to vitality\, balance\, and radiant livi
 ng. Led by seasoned experts and nestled within the serene ambiance of the 
 Bonds Estate &amp\; Gardens\, this class promises to be an unforgettable e
 xploration of natural remedies and ancient wisdom.\n\nDiscover the transfo
 rmative potential of biblical-inspired remedies as we delve into topics ra
 nging from hormonal balance to menopause\, menstrual cycles to perimenopau
 se\, and holistic approaches to overall wellness. With each lesson\, you'l
 l gain invaluable insights\, practical knowledge\, and actionable strategi
 es to nurture your health and vitality from within.\n\nTo connect\, learn\
 , and prioritize your well-being alongside like-minded individuals\, all w
 ithin the comforting embrace of nature's beauty. Reserve your seat today a
 nd take the first step towards reclaiming your health\, vitality\, and inn
 er harmony.\n\n\n\n\n\n\n\n\n\n\n\n\n\nEvent Information:\n\nEvent Name: I
 N PERSON - REMEDIES FOR WOMEN'S HEALTH - Natural Wellness Series\n\nHosted
  By: Bonds Estate &amp\; Gardens\n\nDuration: 2 hours\n\nDate and Time:\n\
 nDate: Saturday\, March 30\n\nTime: 1:00 PM - 3:00 PM EDT\n\nLocation:\n\n
 Venue: The Bonds Estate &amp\; Gardens\n\nAddress: 220 Hopewell Church Roa
 d\, Covington\, GA 30016\, United States\n\nParking Options: Available at 
 the venue location.\n\nTicket Information:\n\nTicket Price: $50.00\n\n&nbs
 p\;\n\nGET TICKETS\n\nRegistration: Available on Eventbrite\n\nAbout This 
 Event: An enriching and rejuvenating day at the Bonds Estate &amp\; Garden
 s on Saturday\, March 30\, 2024. Experience the transformative Biblical po
 wer of natural remedies and embark on a journey toward natural wellness.\n
 \nDiscover a range of effective remedies to support women's health. Our ex
 pert herbalist will cover and teach remedies ranging from topics including
  hormonal balance\, menstrual cycles\, perimenopause\, menopause\, and hol
 istic approaches to well-being.\n\nTo prioritize your well-being and embar
 k on a transformative Biblical journey. Reserve your spot today for the IN
  PERSON - REMEDIES FOR WOMEN'S HEALTH - Natural Wellness Series. All Suppl
 ies Included.\n\nEssentials to Bring:\n\nOpen mind and willingness to lear
 n about natural remedies.\n\nNotebook and pen for taking notes.\n\nComfort
 able attire suitable for the event.\n\nRefund Policy:\n\nContact the organ
 izer to request a refund. Eventbrite's fee is nonrefundable.\n\n\n\n\n\n\n
 \n\n\n\n\n\n\n
ATTACH;FMTTYPE=image/jpeg:https://breatheatlanta.us/wp-content/uploads/202
 4/03/https___cdn.evbuc_.com_images_716739049_1675743653923_1_original.jpeg
CATEGORIES:Wellness Events,Yoga Events
LOCATION:The Bonds Estate & Gardens\, 220 Hopewell Church Road Covington\, 
 GA 30016 United States\, GA \, United States\, 30016 \, GA\, United States
X-APPLE-STRUCTURED-LOCATION;VALUE=URI;X-ADDRESS=220 Hopewell Church Road Co
 vington\, GA 30016 United States\, GA \, United States\, 30016 \, GA\, Uni
 ted States;X-APPLE-RADIUS=100;X-TITLE=The Bonds Estate & Gardens:geo:0,0
END:VEVENT
BEGIN:VTIMEZONE
TZID:America/New_York
X-LIC-LOCATION:America/New_York
BEGIN:DAYLIGHT
DTSTART:20240310T030000
TZOFFSETFROM:-0500
TZOFFSETTO:-0400
TZNAME:EDT
END:DAYLIGHT
END:VTIMEZONE
END:VCALENDAR