BEGIN:VCALENDAR
VERSION:2.0
PRODID:-//wp-events-plugin.com//7.2.3.1//EN
TZID:America/New_York
X-WR-TIMEZONE:America/New_York
BEGIN:VEVENT
UID:354@breatheatlanta.us
DTSTART;TZID=America/New_York:20240704T160000
DTEND;TZID=America/New_York:20240704T220000
DTSTAMP:20240627T134639Z
URL:https://breatheatlanta.us/events/independence-day-in-the-a/
SUMMARY:INDEPENDENCE DAY IN THE A
DESCRIPTION:Gather your friends and head to Underground Atlanta for an unfo
 rgettable Independence Day celebration! Join us for an evening filled with
  delectable food\, refreshing drinks\, and electrifying music in the heart
  of the city.\n\nImmerse yourself in the lively atmosphere as you enjoy th
 e company of friends and soak up the vibrant vibes. Our lineup of talented
  DJs will keep the party alive\, spinning your favorite beats throughout t
 he night. Dance under the stars and create lasting memories as you celebra
 te this special day.\n\nThe highlight of the evening will be our spectacul
 ar live fireworks show\, lighting up the Atlanta skyline with bursts of co
 lor and excitement. It's a sight you won't want to miss!\n\nPlus\, indulge
  in complimentary BBQ and cocktails until 4 PM with your ticket purchase\,
  ensuring you start the festivities off right. As the evening progresses\,
  continue to enjoy complimentary cocktails until 5 PM\, adding to the fest
 ive spirit of the occasion.\n\nExplore a variety of flavors from over 15 f
 ood vendors offering everything from savory delights to sweet treats\, sat
 isfying every craving. Whether you're in the mood for traditional BBQ\, in
 ternational cuisine\, or gourmet snacks\, there's something to tantalize e
 very palate.\n\nWith over 8 DJs spinning tunes throughout the event\, you'
 ll find the perfect soundtrack to your Independence Day celebration. Dance
  to the beats\, mingle with fellow revelers\, and make the most of this vi
 brant gathering in the heart of Atlanta.\n\nJoin us for Independence Day i
 n the A—a night of good food\, fine drinks\, and great music awaits. Get
  your tickets now and prepare for an evening of excitement and community a
 s we celebrate together under the stars!\n\nGET TICKETS\n
ATTACH;FMTTYPE=image/jpeg:https://breatheatlanta.us/wp-content/uploads/202
 4/06/INDEPENDENCE-DAY-IN-THE-A.jpg
CATEGORIES:Arts &amp; Performances,Food &amp; Drink Events,Things To Do
LOCATION:Underground Atlanta\, 50 Upper Alabama Street Atlanta\, Atlanta\, 
 Georgia\, 30303\,  GA\, United States
X-APPLE-STRUCTURED-LOCATION;VALUE=URI;X-ADDRESS=50 Upper Alabama Street Atl
 anta\, Atlanta\, Georgia\, 30303\,  GA\, United States;X-APPLE-RADIUS=100;
 X-TITLE=Underground Atlanta:geo:0,0
END:VEVENT
BEGIN:VTIMEZONE
TZID:America/New_York
X-LIC-LOCATION:America/New_York
BEGIN:DAYLIGHT
DTSTART:20240310T030000
TZOFFSETFROM:-0500
TZOFFSETTO:-0400
TZNAME:EDT
END:DAYLIGHT
END:VTIMEZONE
END:VCALENDAR