BEGIN:VCALENDAR
VERSION:2.0
PRODID:-//wp-events-plugin.com//7.2.3.1//EN
TZID:America/New_York
X-WR-TIMEZONE:America/New_York
BEGIN:VEVENT
UID:566@breatheatlanta.us
DTSTART;TZID=America/New_York:20241024T180000
DTEND;TZID=America/New_York:20241024T210000
DTSTAMP:20241008T151700Z
URL:https://breatheatlanta.us/events/infant-bls-cpr-and-aed-class-in-atlan
 ta-cpr-classes-near-me-atlanta/
SUMMARY:Infant BLS CPR and AED Class in Atlanta - CPR Classes Near Me Atlan
 ta
DESCRIPTION:The Infant BLS CPR and AED Class in Atlanta offers a vital oppo
 rtunity for individuals seeking essential life-saving skills. This America
 n Heart Association (AHA) BLS CPR certification course is conducted in per
 son\, ensuring participants receive comprehensive training tailored for bo
 th healthcare professionals and the general public. Led by certified CPR i
 nstructors\, these classes uphold the highest standards of quality and eff
 ectiveness. To enhance convenience\, participants receive same-day certifi
 cation eCards upon completion. In addition to CPR training\, the program a
 lso includes First Aid and Bloodborne Pathogens training\, making it a wel
 l-rounded resource for those interested in health and safety. With weekly 
 classes available\, this program also caters to businesses and groups by p
 roviding onsite CPR certification\, allowing organizations to prioritize t
 he safety and preparedness of their staff. Whether you are a healthcare pr
 ovider or simply looking to gain critical life-saving skills\, this class 
 is an invaluable resource for everyone.\n\nGET TICKETS\n
ATTACH;FMTTYPE=image/jpeg:https://breatheatlanta.us/wp-content/uploads/202
 4/10/Infant-BLS-CPR-and-AED-Class-in-Atlanta-CPR-Classes-Near-Me-Atlanta.j
 peg
CATEGORIES:Wellness Events
LOCATION:CPR Classes Near Me Atlanta Cumberland\, 2255 Cumberland Parkway S
 outheast\, Los Angeles\, California\, 30339\, GA\, United States
X-APPLE-STRUCTURED-LOCATION;VALUE=URI;X-ADDRESS=2255 Cumberland Parkway Sou
 theast\, Los Angeles\, California\, 30339\, GA\, United States;X-APPLE-RAD
 IUS=100;X-TITLE=CPR Classes Near Me Atlanta Cumberland:geo:0,0
END:VEVENT
BEGIN:VTIMEZONE
TZID:America/New_York
X-LIC-LOCATION:America/New_York
BEGIN:DAYLIGHT
DTSTART:20240310T030000
TZOFFSETFROM:-0500
TZOFFSETTO:-0400
TZNAME:EDT
END:DAYLIGHT
END:VTIMEZONE
END:VCALENDAR