BEGIN:VCALENDAR
VERSION:2.0
PRODID:-//wp-events-plugin.com//7.2.3.1//EN
TZID:America/New_York
X-WR-TIMEZONE:America/New_York
BEGIN:VEVENT
UID:528@breatheatlanta.us
DTSTART;TZID=America/New_York:20241024T173000
DTEND;TZID=America/New_York:20241024T183000
DTSTAMP:20240930T114715Z
URL:https://breatheatlanta.us/events/inferno-fitness-boxing/
SUMMARY:Inferno Fitness & Boxing
DESCRIPTION:\n\n\n\n\nPressed for time but still want to burn calories and 
 achieve your fitness goals? Look no further than Inferno Fitness &amp\; Bo
 xing\, where high-energy\, efficient workout sessions are designed to maxi
 mize results\, even with a busy schedule. Every Thursday\, Inferno Fitness
  offers a dynamic combination of Boxing and Calisthenic classes that not o
 nly torch calories but also build strength\, endurance\, and overall fitne
 ss.\n\nThese workouts are perfect for anyone looking to improve their fitn
 ess level\, whether you’re a beginner starting your journey or a seasone
 d athlete pushing toward new goals. The boxing sessions focus on powerful\
 , fat-burning drills that combine speed and technique\, while the calisthe
 nics routines enhance muscle tone\, flexibility\, and core strength. Toget
 her\, they form a balanced\, high-impact workout that keeps you in top sha
 pe.\n\nBooking your session is simple—reserve your spot today and get re
 ady to ignite your fitness journey. At Inferno Fitness\, you’ll leave ea
 ch session feeling stronger\, more confident\, and on the fast track to yo
 ur health goals.\n\nClass Highlights:\n\n 	When: Every Thursday\n 	What’
 s Offered: Boxing and Calisthenic classes for all fitness levels\n 	Benefi
 ts: Burn calories\, build strength\, and improve endurance in a short\, im
 pactful session\n\nTake the first step toward a fitter\, stronger you. Let
 ’s get that fitness journey started together!\n\n#InfernoFitness #Boxing
 Workouts #CalisthenicsTraining #BurnCalories #FitnessJourney #ThursdayWork
 outs.\n\n\n\n\n\n\nGET TICKETS\n
ATTACH;FMTTYPE=image/jpeg:https://breatheatlanta.us/wp-content/uploads/202
 4/09/Inferno-Fitness-Boxing.jpg
CATEGORIES:Sports &amp; Fitness Events
LOCATION:3167 Main St\, 3167 Main Street\, Duluth\, Georgia\, 30096\, GA\, 
 United States
X-APPLE-STRUCTURED-LOCATION;VALUE=URI;X-ADDRESS=3167 Main Street\, Duluth\,
  Georgia\, 30096\, GA\, United States;X-APPLE-RADIUS=100;X-TITLE=3167 Main
  St:geo:0,0
END:VEVENT
BEGIN:VTIMEZONE
TZID:America/New_York
X-LIC-LOCATION:America/New_York
BEGIN:DAYLIGHT
DTSTART:20240310T030000
TZOFFSETFROM:-0500
TZOFFSETTO:-0400
TZNAME:EDT
END:DAYLIGHT
END:VTIMEZONE
END:VCALENDAR