BEGIN:VCALENDAR
VERSION:2.0
PRODID:-//wp-events-plugin.com//7.2.3.1//EN
TZID:America/New_York
X-WR-TIMEZONE:America/New_York
BEGIN:VEVENT
UID:682@breatheatlanta.us
DTSTART;TZID=America/New_York:20241119T130000
DTEND;TZID=America/New_York:20241119T150000
DTSTAMP:20241024T143841Z
URL:https://breatheatlanta.us/events/informational-seminar-about-2025-medi
 care-updates/
SUMMARY:Informational Seminar about 2025 Medicare Updates
DESCRIPTION:\n\n\n\n\nThe upcoming seminar will provide valuable insights i
 nto the latest updates for Medicare in 2025. Attendees can expect a compre
 hensive discussion covering key topics\, including:\n\n 	Recent changes an
 d new regulations impacting Medicare\n 	A breakdown of the various plan op
 tions available\, tailored to individual needs\n 	Strategies for selecting
  the right plan that aligns with both personal health requirements and fin
 ancial budgets\n 	Important enrollment periods\, deadlines\, and other cru
 cial dates to keep in mind\n\nWith the overwhelming influx of Medicare adv
 ertisements that often clutter mailboxes\, this seminar aims to simplify t
 he process. It will offer clear\, easy-to-understand guidance\, helping in
 dividuals navigate their Medicare options with confidence and ease.\n\n\n\
 n\n\n\nGET TICKETS\n
ATTACH;FMTTYPE=image/jpeg:https://breatheatlanta.us/wp-content/uploads/202
 4/10/Informational-Seminar-about-2025-Medicare-Updates.jpg
CATEGORIES:Things To Do
LOCATION:Community Achievement Center Inc\, 4522 Flat Shoals Parkway Decatu
 r\, Atlanta\, Georgia\, 30034 \, GA\, United States
X-APPLE-STRUCTURED-LOCATION;VALUE=URI;X-ADDRESS=4522 Flat Shoals Parkway De
 catur\, Atlanta\, Georgia\, 30034 \, GA\, United States;X-APPLE-RADIUS=100
 ;X-TITLE=Community Achievement Center Inc:geo:0,0
END:VEVENT
BEGIN:VTIMEZONE
TZID:America/New_York
X-LIC-LOCATION:America/New_York
BEGIN:STANDARD
DTSTART:20241103T010000
TZOFFSETFROM:-0400
TZOFFSETTO:-0500
TZNAME:EST
END:STANDARD
END:VTIMEZONE
END:VCALENDAR